BEGIN:VCALENDAR
VERSION:2.0
PRODID:-//Δήμος Λουτρακίου - ECPv4.6.12//NONSGML v1.0//EN
CALSCALE:GREGORIAN
METHOD:PUBLISH
X-WR-CALNAME:Δήμος Λουτρακίου
X-ORIGINAL-URL:https://loutraki.gov.gr/en
X-WR-CALDESC:Events for Δήμος Λουτρακίου
BEGIN:VEVENT
DTSTART;TZID=Europe/Athens:20250905T203000
DTEND;TZID=Europe/Athens:20250905T223000
DTSTAMP:20260422T175147
CREATED:20250728T121621Z
LAST-MODIFIED:20250829T095252Z
UID:32112-1757104200-1757111400@loutraki.gov.gr
SUMMARY:Όταν το φεγγάρι ακούει...
DESCRIPTION:🌕 Όταν το φεγγάρι ακούει.. \nΜια μαγευτική βραδιά μουσικής υπό το φως του φεγγαριού\, στον αρχαιολογικό χώρο του Μουσείου Ισθμίας.\nΜε στόχο τη διάδοση της ιστορικής ταυτότητας της περιοχής μας και την πολιτιστική αφύπνιση του κοινού\, ο Σύλλογός μας συνεχίζει να επενδύει σε δράσεις που ενώνουν το παρελθόν με το παρόν\, μέσα από την τέχνη και τη μνήμη. \n📍 Παρασκευή 5 Σεπτεμβρίου | 20:30\n🎻 Με τη Συμφωνική Ορχήστρα Νέων του Καλογεροπούλειου Ιδρύματος\n🎟️ Είσοδος ελεύθερη \nΗ εκδήλωση τελεί υπό την αιγίδα του Υπουργείου Πολιτισμού\, της Περιφέρειας Πελοποννήσου και του Δήμου Λουτρακίου-Περαχώρας-Αγίων Θεοδώρων  \n  \n
URL:https://loutraki.gov.gr/en/event/otan-to-feggari-akoyei/
LOCATION:Ίσθμια\, Κορινθία\, 20300\, Ελλάδα
GEO:37.9151925;22.9906582
CATEGORIES:
ATTACH;FMTTYPE=image/png:https://loutraki.gov.gr/wp-content/uploads/2025/07/πανσεληνος-2025_9d0905ad-6808-4a77-877c-1a9ee526190e.png
END:VEVENT
END:VCALENDAR