BEGIN:VCALENDAR
VERSION:2.0
PRODID:-//Δήμος Λουτρακίου - ECPv4.6.12//NONSGML v1.0//EN
CALSCALE:GREGORIAN
METHOD:PUBLISH
X-WR-CALNAME:Δήμος Λουτρακίου
X-ORIGINAL-URL:https://loutraki.gov.gr/en
X-WR-CALDESC:Events for Δήμος Λουτρακίου
BEGIN:VEVENT
DTSTART;TZID=Europe/Athens:20220728T080000
DTEND;TZID=Europe/Athens:20220731T170000
DTSTAMP:20260423T130801
CREATED:20220228T094015Z
LAST-MODIFIED:20220228T094015Z
UID:25260-1658995200-1659286800@loutraki.gov.gr
SUMMARY:OPUS FESTIVAL 2022
DESCRIPTION:Με στόχο να φέρουμε τους νέους κοντά στην κλασική μουσική\, να διευρύνουμε τους ορίζοντες τους\, αλλά και να καταστήσουμε το Λουτράκι διεθνή προορισμό\, τόπο συνάντησης και συνδιαλλαγής μουσικών από την Ελλάδα και το εξωτερικό\, διοργανώνουμε το Διεθνές Φεστιβάλ Κλασικής Μουσικής – Opus\, σε συνεργασία με τοπικούς καλλιτεχνικούς φορείς. \nΣεμινάρια και συναυλίες με εξαιρετικούς πρεσβευτές του είδους δίνουν προστιθέμενη αξία στα πολιτιστικά δρώμενα της περιοχής. Με κινητήρια δύναμη τη Φιλαρμονική Ορχήστρα Λουτρακίου\, την πλούσια πολιτιστική μας παράδοση\, τους εκατοντάδες μαθητές αλλά και φίλους της κλασικής μουσικής στο Λουτράκι και την ευρύτερη περιοχή\, θέτουμε στέρεες βάσεις για την καθιέρωση και θεσμοθέτηση μιας διοργάνωσης που θα διανθίζεται χρόνο με το χρόνο. \nΜια διοργάνωση παρακαταθήκη για τη νέα γενιά\, με την ευχή να αποτελέσει εφαλτήριο για ανακάλυψη και εξερεύνηση της ύψιστης τέχνης\, της μουσικής. \n
URL:https://loutraki.gov.gr/en/event/opus-festival-2022/
CATEGORIES:
ATTACH;FMTTYPE=image/jpeg:https://loutraki.gov.gr/wp-content/uploads/2022/02/OPUS-FESTIVAL2_MAIN.jpg
END:VEVENT
END:VCALENDAR