BEGIN:VCALENDAR
VERSION:2.0
PRODID:-//Δήμος Λουτρακίου - ECPv4.6.12//NONSGML v1.0//EN
CALSCALE:GREGORIAN
METHOD:PUBLISH
X-WR-CALNAME:Δήμος Λουτρακίου
X-ORIGINAL-URL:https://loutraki.gov.gr/en
X-WR-CALDESC:Events for Δήμος Λουτρακίου
BEGIN:VEVENT
DTSTART;TZID=Europe/Athens:20211003T110000
DTEND;TZID=Europe/Athens:20211003T130000
DTSTAMP:20260423T201724
CREATED:20210930T080941Z
LAST-MODIFIED:20211012T082605Z
UID:24570-1633258800-1633266000@loutraki.gov.gr
SUMMARY:Open Day 2021 | Ελάτε να γνωρίσουμε μαζί τον υπέροχο κόσμο της μουσικής!
DESCRIPTION:Ο Δήμος Λουτρακίου – Περαχώρας – Αγίων Θεοδώρων και η Φιλαρμονική Ορχήστρα Λουτρακίου Filarmoniki Loutrakiou σας προσκαλούν στο Open Day που διοργανώνουν την Κυριακή 3 Οκτωβρίου 2021 και ώρα 11.00 με 13.00 στο Πνευματικό Κέντρο Λουτρακίου (Κολοκοτρώνη 17). \n
URL:https://loutraki.gov.gr/en/event/open-day-2021-elate-na-gnorisoyme-mazi-ton-yperocho-kosmo-tis-moysikis/
LOCATION:Κολοκοτρώνη 17\, Λουτράκι\, 20300\, Ελλάδα
GEO:37.9764333;22.9785725
X-APPLE-STRUCTURED-LOCATION;VALUE=URI;X-ADDRESS=Κολοκοτρώνη 17 Λουτράκι 20300 Ελλάδα;X-APPLE-RADIUS=500;X-TITLE=Κολοκοτρώνη 17:geo:22.9785725,37.9764333
CATEGORIES:Εκπαιδευτικές
ATTACH;FMTTYPE=image/jpeg:https://loutraki.gov.gr/wp-content/uploads/2021/10/243420834_4116166035173403_6799157850055134669_n-1.jpg
END:VEVENT
END:VCALENDAR