BEGIN:VCALENDAR
VERSION:2.0
PRODID:-//Δήμος Λουτρακίου - ECPv4.6.12//NONSGML v1.0//EN
CALSCALE:GREGORIAN
METHOD:PUBLISH
X-WR-CALNAME:Δήμος Λουτρακίου
X-ORIGINAL-URL:https://loutraki.gov.gr/en
X-WR-CALDESC:Events for Δήμος Λουτρακίου
BEGIN:VEVENT
DTSTART;TZID=Europe/Athens:20240630T203000
DTEND;TZID=Europe/Athens:20240630T223000
DTSTAMP:20260422T103014
CREATED:20240625T095237Z
LAST-MODIFIED:20240625T101130Z
UID:29894-1719779400-1719786600@loutraki.gov.gr
SUMMARY:«Όνειρο Καλοκαιρινής Νύχτας»
DESCRIPTION:\n Του Ουίλλιαμ Σαίξπηρ\, σε διασκευή της Χρύσας Σπηλιώτη.\n\n\nΚυριακή 30 Ιουνίου 2024 και ώρα 20:30\nστο Θέατρο «Παντελής Ζερβός»\,\nτο Παιδικό και Εφηβικό Θεατρικό Εργαστήρι του Ίβυκου παρουσιάζει την Θεατρική Παράσταση/Δημιουργία.\n\n\n Ένα γαϊτανάκι θα ξετυλιχτεί μπροστά μας τη νύχτα του γάμου του Θησέα και της Αμαζόνας Ιππολύτης στην Αρχαία Αθήνα.\nΗ Ερμία\, κόρη ενός άρχοντα\, δε θα δεχτεί για άντρα της τον Δημήτριο\, γιατί η καρδιά της ανήκει στον Λύσσανδρο και έτσι την νύχτα του γάμου θα χαθούν στο μαγικό Δάσος\, όπου ζουν ο Βασιλιάς των Ξωτικών\, ο Όμπερον\, η βασίλισσα Τιτάνια\, οι νεράιδες και τα σκανδαλιάρικα ξωτικά Πουκ !\n\n\n Κι αν νομίζετε ότι η πραγματικότητα ξεπερνάει την φαντασία .. ένας θίασος ηθοποιών που καταφθάνουν για τον περίφημο γάμο θα παίξει θέατρο μέσα στο θέατρο !\nΗ αναζήτηση για το Ειδύλλιο ξεκίνησε ..\n\n\n Ο Σαίξπηρ εξυμνεί σ’ αυτό το έργο τη δύναμη της φιλίας\, την ορμή των νιάτων\, τα όνειρα που λειτουργούν σαν καταφύγιο στις δυσκολίες\, την αγάπη και την αισιοδοξία που είναι τα κλειδιά της ελπίδας μας.\n\n\nΣκηνοθετική- Καλλιτεχνική επιμέλεια:\nΜαρία Τσομπανάκου Maria Tsompanakoy\nΜαργαρίτα Αλεξίου Margarita Alexiou\n\n\n#ivykos #theatre #loutraki\n\n\nΕίσοδος ελεύθερη\n\n
URL:https://loutraki.gov.gr/en/event/oneiro-kalokairinis-nychtas/
LOCATION:Πάρκο Δεξαμενής\, Λουτράκι\, 20300\, Ελλάδα
GEO:37.9727548;22.9858004
X-APPLE-STRUCTURED-LOCATION;VALUE=URI;X-ADDRESS=Πάρκο Δεξαμενής Λουτράκι 20300 Ελλάδα;X-APPLE-RADIUS=500;X-TITLE=Πάρκο Δεξαμενής:geo:22.9858004,37.9727548
CATEGORIES:
ATTACH;FMTTYPE=image/jpeg:https://loutraki.gov.gr/wp-content/uploads/2024/06/ΟΝΕΙΡΟ-ΚΑΛΟΚΑΙΡΙΝΗΣ-ΝΥΧΤΑΣ.jpg
END:VEVENT
END:VCALENDAR