BEGIN:VCALENDAR
VERSION:2.0
PRODID:-//Δήμος Λουτρακίου - ECPv4.6.12//NONSGML v1.0//EN
CALSCALE:GREGORIAN
METHOD:PUBLISH
X-WR-CALNAME:Δήμος Λουτρακίου
X-ORIGINAL-URL:https://loutraki.gov.gr/en
X-WR-CALDESC:Events for Δήμος Λουτρακίου
BEGIN:VEVENT
DTSTART;TZID=Europe/Athens:20191002T190000
DTEND;TZID=Europe/Athens:20191002T190000
DTSTAMP:20260422T073231
CREATED:20190924T083531Z
LAST-MODIFIED:20190924T083531Z
UID:18516-1570042800-1570042800@loutraki.gov.gr
SUMMARY:Ομιλία για την "Παιδική σεξουαλική παρενόχληση"
DESCRIPTION:Σας προσκαλούμε όλους στην ομιλία-προσέγγιση του θέματος \n” Παιδική σεξουαλική παρενόχληση” \nαπό τον από τον ψυχίατρο παιδιών και εφήβων-ψυχοθεραπευτή\, \nΔημήτρη Καράγιωργα. \n
URL:https://loutraki.gov.gr/en/event/omilia-gia-tin-paidiki-sexoyaliki-parenochlisi/
LOCATION:Δημητρίου Στάμου 1\, Αγ\, Θεόδωροι\, Κορινθία\, 20300
ATTACH;FMTTYPE=image/jpeg:https://loutraki.gov.gr/wp-content/uploads/2019/09/71764505_2505057139713988_2978461533744398336_n.jpg
END:VEVENT
END:VCALENDAR