BEGIN:VCALENDAR
VERSION:2.0
PRODID:-//Δήμος Λουτρακίου - ECPv4.6.12//NONSGML v1.0//EN
CALSCALE:GREGORIAN
METHOD:PUBLISH
X-WR-CALNAME:Δήμος Λουτρακίου
X-ORIGINAL-URL:https://loutraki.gov.gr/en
X-WR-CALDESC:Events for Δήμος Λουτρακίου
BEGIN:VEVENT
DTSTART;TZID=Europe/Athens:20240301T080000
DTEND;TZID=Europe/Athens:20240303T170000
DTSTAMP:20260422T223712
CREATED:20240108T133716Z
LAST-MODIFIED:20240301T073940Z
UID:28915-1709280000-1709485200@loutraki.gov.gr
SUMMARY:ΚΥΠΕΛΛΟ ΕΛΛΑΔΑΣ ΤΣΙΡΛΙΝΤΙΝΓΚ & LOUTRAKI CHEER CHALLENGE CUP 2024
DESCRIPTION:ΣΤΟ ΚΥΠΕΛΛΟ ΕΛΛΑΔΑΣ ΤΣΙΡΛΙΝΤΙΝΓΚ & LOUTRAKI CHEER CHALLENGE CUP διδάσκουν & κρίνουν προπονητές- χορογράφοι διεθνούς κύρους από το εξωτερικό. Η διαδικασία του Κυπέλλου (camp & αγώνας) είναι μια μεγάλη πρόκληση για τις ομάδες ενώ παράλληλα βελτιώνει θεαματικά το αγωνιστικό επίπεδο των αθλητριών & αθλητών που συμμετέχουν. Οι αθλητές/αθλήτριες καλούνται να μάθουν όλοι την ίδια χορογραφία\, και να διαγωνιστούν με αυτή την χορογραφία μεταξύ τους. Οι ομάδες αποκτούν συνοχή και δυναμώνουν αγωνιστικά σε όλα τα επίπεδα. \nΠροκήρυξη αγώνων – Κύπελλο Ελλάδος \nΠροκήρυξη αγώνων – Προκριματικών Ελλάδος \n\n\n\nΣτο Λουτράκι «χτυπάει» η καρδιά του Cheerleading\n\n\n\n\n\nΗ αντίστροφη μέτρηση για το Κύπελλο Ελλάδας Cheerleading έχει ξεκινήσει κι από την ερχόμενη Παρασκευή έως την Κυριακή το Λουτράκι θα γεμίσει αθλητές\, χορό και θέαμα \nΤο Λουτράκι των… ρεκόρ είναι έτοιμο να υποδεχτεί το πολυπληθέστερο Κύπελλο Ελλάδας που έχει γίνει ποτέ. Οι συμμετοχές θα ξεπεράσουν τις 900 και συνολικά θα αγωνιστούν περίπου 150 ομάδες από όλη την Ελλάδα.  \nΣτο Κύπελλο Ελλάδας Cheerleading\, όπως κάθε χρόνο διεθνείς εισηγητές – κριτές θα έρθουν από το εξωτερικό\, προκειμένου να δείξουν τα νέα προγράμματα στις ομάδες. Πιο συγκεκριμένα οι Mateja Grbec (Σλοβενία  Cheer Pom)\, Sasa Stiftar (Σλοβενία – Cheer Jazz)\, Tim Aafjes (Ολλανδία – Cheer Hip Hop) και Clint Johnson (Αμερική – Cheerleading) θα δώσουν μία ακόμη ξεχωριστή εμπειρία στις ομάδες.  \nTo #cheerchallenge:  Οι συμμετέχοντες θα κληθούν για άλλη μια φορά\,  να φέρουν εις πέρας την πρόκληση του Κυπέλλου καθώς την  Παρασκευή και το Σάββατο θα διδαχθούν τις χορογραφίες από τους coaches και την Κυριακή θα διαγωνιστούν και θα κριθούν σε αυτές. \nΠαράλληλα με την διεξαγωγή του Κυπέλλου Ελλάδας Cheerleading θα διεξαχθεί το Loutraki Cheer Challenge Cup και οι Α’ προκριματικοί αγώνες για το επερχόμενο Πανελλήνιο Πρωτάθλημα ζευγαριών και ομάδων. \nΟι αγώνες διοργανώνονται από την Ελληνική Ομοσπονδία Cheerleading με την υποστήριξη του Δήμου Λουτρακίου\, Περαχώρας και Αγίων Θεοδώρων και την πολύτιμη βοήθεια του Δημάρχου Γιώργου Γκιώνη\, του αντιδημάρχου Κοινωνικής Πολιτικής & Αθλητισμού Αθανάσιου Παπαθανασίου και του αναπληρωτή προϊσταμένου Δ/νσης Κοινωνικής Προστασίας\, Παιδείας\, Πολιτισμού και Αθλητισμού Παναγιώτη Αργύρη.  \nΠΡΟΓΡΑΜΜΑ\nΠΑΡΑΣΚΕΥΗ 1/3/2024 & ΣΑΒΒΑΤΟ 2/3/2024: \nΕΚΜΑΘΗΣΕΙΣ  \nΣΑΒΒΑΤΟ 2/3/2024:\nΑ’ ΠΡΟΚΡΙΜΑΤΙΚΟΣ ΖΕΥΓΑΡΙΩΝ ΓΙΑ ΤΟ 8ο ΠΑΝΕΛΛΗΝΙΟ ΠΡΩΤΑΘΛΗΜΑ ΤΣΙΡΛΙΝΤΙΝΓΚ 2024\nhttps://drive.google.com/file/d/1JeXOTIbFEGaW3vVeDxaatlPtqU8xLPEw/view?usp=sharing \nΚΥΡΙΑΚΗ 3/3/2024:\nΚΥΠΕΛΛΟ ΕΛΛΑΔΑΣ ΤΣΙΡΛΙΝΤΙΝΓΚ 2024 ΚΑΙ Α’ ΠΡΟΚΡΙΜΑΤΙΚΟΣ ΑΓΩΝΑΣ ΟΜΑΔΩΝ ΓΙΑ ΤΟ 8ο ΠΑΝΕΛΛΗΝΙΟ ΠΡΩΤΑΘΛΗΜΑ ΤΣΙΡΛΙΝΤΙΝΓΚ 2024\nhttps://drive.google.com/file/d/1JfiwC3mCJqdfd3UJuhb3O_uBhSwLlaGH/view?usp=sharing \n\n\n\n  \n \n
URL:https://loutraki.gov.gr/en/event/o-kypello-elladas-tsirlintingk-loutraki-cheer-challenge-cup-2024/
LOCATION:Λεωφόρος Αθηνών\, Λουτράκι\, 20300
GEO:37.945996;22.9761642
X-APPLE-STRUCTURED-LOCATION;VALUE=URI;X-ADDRESS=Λεωφόρος Αθηνών Λουτράκι 20300;X-APPLE-RADIUS=500;X-TITLE=Λεωφόρος Αθηνών:geo:22.9761642,37.945996
CATEGORIES:Αθλητικές
ATTACH;FMTTYPE=image/jpeg:https://loutraki.gov.gr/wp-content/uploads/2024/01/2024_cup_poster_web.jpg
END:VEVENT
END:VCALENDAR