BEGIN:VCALENDAR
VERSION:2.0
PRODID:-//Δήμος Λουτρακίου - ECPv4.6.12//NONSGML v1.0//EN
CALSCALE:GREGORIAN
METHOD:PUBLISH
X-WR-CALNAME:Δήμος Λουτρακίου
X-ORIGINAL-URL:https://loutraki.gov.gr/en
X-WR-CALDESC:Events for Δήμος Λουτρακίου
BEGIN:VEVENT
DTSTART;TZID=Europe/Athens:20180803T213000
DTEND;TZID=Europe/Athens:20180803T235900
DTSTAMP:20260421T231843
CREATED:20180718T091326Z
LAST-MODIFIED:20180718T091326Z
UID:16188-1533331800-1533340740@loutraki.gov.gr
SUMMARY:Μαρίζα Ρίζου\, Beach Party
DESCRIPTION:Η χρονιά που πέρασε ήταν εξαιρετικά δημιουργική και επιτυχημένη για τη Μαρίζα Ρίζου!\nΈδωσε δυνατά live εντός και εκτός Αθηνών\, έγραψε τη μουσική για την πιο πετυχημένη παράσταση της χρονιάς «Μαντάμ Σουσού» στο Θέατρο Παλλάς\, ενώ πριν από λίγες εβδομάδες κυκλοφόρησε το νέο της τραγούδι «Ας Γελάμε Συχνά»\, σε στίχους δικούς της και μουσική Κωστή Μαραβέγια\, προϊδεάζοντάς μας για το τι πρόκειται να ακολουθήσει στο τρίτο προσωπικό της άλμπουμ που θα κυκλοφορήσει το φθινόπωρο από την Feelgood Records.\nΓεμάτη με όλη αυτή την ενέργεια λοιπόν\, ετοιμάζεται για τις απόλυτα καλοκαιρινές της εμφανίσεις.\nΜεγάλος σταθμός και η Παραλία Πευκάκια των Αγίων Θεοδώρων για ένα ξέφρενο Beach Party την Παρασκευή 3 Αυγούστου 2018 και ώρα 21.30 με ελεύθερη είσοδο! \nΜαζί με όλα τα γνωστά της τραγούδια\, όπως το «Μια άλλη ευτυχία»\, «Πετάω»\, «Είναι μικρή η ζωή»\, «Πάμε μια βόλτα»\, θα μοιραστεί βέβαια μαζί μας και το «Ας Γελάμε Συχνά»\, το φωτεινό\, αισιόδοξο τραγούδι\, που γεννήθηκε από την πρώτη της συνεργασία με τον Κωστή.\nΌπως πάντα\, στο πρόγραμμα θα υπάρχουν αγαπημένα της κομμάτια άλλων δημιουργών\, μεταμορφωμένα\, ενορχηστρωμένα και ερμηνευμένα με τον δικό της μοναδικό τρόπο\, ντυμένα στην πολύχρωμη αύρα της.\nΤο κορίτσι που βγαίνει στη σκηνή χωρίς παπούτσια\, εύκολα θα οδηγήσει και τα δικά μας πόδια να χορέψουν στους ρυθμούς της\, αρκεί να είμαστε έτοιμοι να αφεθούμε και να πάμε παρέα την πιο ωραία βόλτα! \nΕίσοδος Ελέυθερη \n
URL:https://loutraki.gov.gr/en/event/mariza-rizoy-beach-party/
LOCATION:Άγιοι Θεόδωροι\, Κορινθία\, Ελλάδα
GEO:37.9282447;23.1433311
CATEGORIES:
ATTACH;FMTTYPE=image/jpeg:https://loutraki.gov.gr/wp-content/uploads/2018/07/35328017_2008423196139843_1750636190337335296_n.jpg
END:VEVENT
END:VCALENDAR