BEGIN:VCALENDAR
VERSION:2.0
PRODID:-//Δήμος Λουτρακίου - ECPv4.6.12//NONSGML v1.0//EN
CALSCALE:GREGORIAN
METHOD:PUBLISH
X-WR-CALNAME:Δήμος Λουτρακίου
X-ORIGINAL-URL:https://loutraki.gov.gr/en
X-WR-CALDESC:Events for Δήμος Λουτρακίου
BEGIN:VEVENT
DTSTART;TZID=Europe/Athens:20250425T080000
DTEND;TZID=Europe/Athens:20250427T170000
DTSTAMP:20260421T231854
CREATED:20250506T072601Z
LAST-MODIFIED:20250506T072601Z
UID:31509-1745568000-1745773200@loutraki.gov.gr
SUMMARY:Marathon Fishing Tournament
DESCRIPTION:Marathon Fishing Tournament – Από τις 25 έως τις 27 Απριλίου\, η παραλία του Λουτρακίου φιλοξενεί το τουρνουά αλιείας Marathon — μια ξεχωριστή εμπειρία για λάτρεις της θάλασσας και του ψαρέματος! \nΜε συμμετοχές απ’ όλη την Ελλάδα και φόντο τον Κορινθιακό\, το Λουτράκι απέδειξε για άλλη μια φορά πως μπορεί να είναι κάτι παραπάνω από ένας καλοκαιρινός προορισμός\, συνδυάζοντας φύση\, εμπειρίες και δραστηριότητες όλο τον χρόνο!  \n
URL:https://loutraki.gov.gr/en/event/marathon-fishing-tournament/
LOCATION:Λουτράκι\, Λουτράκι\, 20300
GEO:37.9759033;22.9774589
X-APPLE-STRUCTURED-LOCATION;VALUE=URI;X-ADDRESS=Λουτράκι Λουτράκι 20300;X-APPLE-RADIUS=500;X-TITLE=Λουτράκι:geo:22.9774589,37.9759033
CATEGORIES:Αθλητικές
ATTACH;FMTTYPE=image/jpeg:https://loutraki.gov.gr/wp-content/uploads/2025/05/images-1.jpg
END:VEVENT
END:VCALENDAR