BEGIN:VCALENDAR
VERSION:2.0
PRODID:-//Δήμος Λουτρακίου - ECPv4.6.12//NONSGML v1.0//EN
CALSCALE:GREGORIAN
METHOD:PUBLISH
X-WR-CALNAME:Δήμος Λουτρακίου
X-ORIGINAL-URL:https://loutraki.gov.gr/en
X-WR-CALDESC:Events for Δήμος Λουτρακίου
BEGIN:VEVENT
DTSTART;TZID=Europe/Athens:20190203T093000
DTEND;TZID=Europe/Athens:20190203T130000
DTSTAMP:20260425T002358
CREATED:20190128T135210Z
LAST-MODIFIED:20190128T135237Z
UID:17309-1549186200-1549198800@loutraki.gov.gr
SUMMARY:LOUTRAKI RUN 2019
DESCRIPTION:Την Κυριακή 3 Φεβρουαρίου 2019 θα διεξαχθεί ο αγώνας δρόμου LOUTRAKI RUN 2019\, που διοργανώνουν ο Δήμος Λουτρακίου – Περαχώρας – Αγίων Θεοδώρων και ο Α.Ο. Ποσειδών Λουτρακίου\, σε συνεργασία με την ΕΑΣ ΣΕΓΑΣ Περιφέρειας Πελοποννήσου. \nΤο πρόγραμμα περιλαμβάνει: \nΑγώνα δρόμου δέκα (10) χιλιομέτρων\, αγώνες δρόμου τριών (3) χιλιομέτρων και ενός (1) χιλιομέτρου για παιδιά. Η διαδρομή των 10 χιλιομέτρων είναι πιστοποιημένη από την ΙΑΑF – AIMS. \nΟι αγώνες έχουν ως σημείο εκκίνησης και τερματισμού τους καταρράκτες\,μπροστά από τις ιαματικές πηγές Λουτρακίου. \nΗ περίοδος των εγγραφών θα διαρκέσει έως την Τετάρτη 30 Ιανουαρίου 2019 στις 12:00 το μεσημέρι ή μέχρι να συμπληρωθεί το όριο των αθλητών. \nΕγγραφές θα γίνονται επίσης το Σαββάτο 2 Φεβρουαρίου από τις 17:00 έως 21:00 και την ημέρα του αγώνα από τις 07:30 στη γραμματεία Δημοτική Ιαματική πηγή Λουτρακίου (Γ. Λέκκα 70) . \nΔήλωση συμμετοχής στο http://www.myrace.gr \n
URL:https://loutraki.gov.gr/en/event/loutraki-run-2019/
CATEGORIES:Αθλητικές
ATTACH;FMTTYPE=image/jpeg:https://loutraki.gov.gr/wp-content/uploads/2019/01/49948445_1522489951187873_691935023980347392_n.jpg
END:VEVENT
END:VCALENDAR