BEGIN:VCALENDAR
VERSION:2.0
PRODID:-//Δήμος Λουτρακίου - ECPv4.6.12//NONSGML v1.0//EN
CALSCALE:GREGORIAN
METHOD:PUBLISH
X-WR-CALNAME:Δήμος Λουτρακίου
X-ORIGINAL-URL:https://loutraki.gov.gr/en
X-WR-CALDESC:Events for Δήμος Λουτρακίου
BEGIN:VEVENT
DTSTART;TZID=Europe/Athens:20240817T213000
DTEND;TZID=Europe/Athens:20240817T233000
DTSTAMP:20260422T084757
CREATED:20240809T111506Z
LAST-MODIFIED:20240809T111506Z
UID:30195-1723930200-1723937400@loutraki.gov.gr
SUMMARY:Loutraki Festival 2024 | ΝΤΟ Δίεση
DESCRIPTION:Το Loutraki Festival 2024 και η Καλαβρία φιλοξενούν τους ΝΤΟ Δίεση για μία μοναδική συναυλία στα Πίσια.\nΗ συναυλία θα πραγματοποιηθεί το Σάββατο 17 Αυγούστου 2024 και ώρα 21:30.\nΟι ΝΤΟ Δίεση\, γνωστοί για την ξεχωριστή τους προσέγγιση στη μουσική και τις δυναμικές τους εμφανίσεις\, υπόσχονται ένα αξέχαστο μουσικό βράδυ γεμάτο ενέργεια και πάθος. Το συγκρότημα θα παρουσιάσει ένα πλούσιο ρεπερτόριο που θα ενθουσιάσει το κοινό με την ποικιλία και την ποιότητα της μουσικής του.\nΗ εκδήλωση θα πραγματοποιηθεί στην πανέμορφη Καλαβρια στα Πίσια\, προσφέροντας ένα μαγευτικό σκηνικό για αυτή τη μουσική βραδιά.\nΠληροφορίες και Κρατήσεις:\nΤηλέφωνο: 2744079882\nΣας περιμένουμε! \n  \n
URL:https://loutraki.gov.gr/en/event/loutraki-festival-2024-nto-diesi/
LOCATION:Πίσια\, Κορινθία\, 20300\, Ελλάδα
GEO:38.0210744;22.9880671
CATEGORIES:
ATTACH;FMTTYPE=image/jpeg:https://loutraki.gov.gr/wp-content/uploads/2024/07/451875059_896460625857473_749129291272820694_n.jpg
END:VEVENT
END:VCALENDAR