BEGIN:VCALENDAR
VERSION:2.0
PRODID:-//Δήμος Λουτρακίου - ECPv4.6.12//NONSGML v1.0//EN
CALSCALE:GREGORIAN
METHOD:PUBLISH
X-WR-CALNAME:Δήμος Λουτρακίου
X-ORIGINAL-URL:https://loutraki.gov.gr/en
X-WR-CALDESC:Events for Δήμος Λουτρακίου
BEGIN:VEVENT
DTSTART;TZID=Europe/Athens:20220801T080000
DTEND;TZID=Europe/Athens:20220812T170000
DTSTAMP:20260423T130824
CREATED:20220228T095218Z
LAST-MODIFIED:20220228T095218Z
UID:25266-1659340800-1660323600@loutraki.gov.gr
SUMMARY:LOUTRAKI FESTIVAL 2022
DESCRIPTION:Το Loutraki Festival θα πραγματοποιηθεί φέτος για 8η συνεχόμενη χρονιά\, έχοντας καταχωρηθεί στα σημαντικά φεστιβάλ της χώρας μας. \nΤο φετινό του πρόγραμμα του περιλαμβάνει\, μεταξύ άλλων\, εκδηλώσεις και αφιερώματα για τον Μίκη Θεοδωράκη\, τον Μάνο Λοΐζο\, τον Μάνο Χατζιδάκη\, τον ηθοποιό Παντελή Ζερβό\, συναυλίες με έντεχνους τραγουδιστές\, Blues & Rock Festival και Beach Party\, μαζί με τα εγκαίνια του νέου θεάτρου της πόλης του Λουτρακίου. \nΠαράλληλα\, για πρώτη φορά στο πλαίσιο του Φεστιβάλ\, θα δημιουργηθεί Συμφωνική Ορχήστρα με μουσικούς από την ευρύτερη περιοχή και τη συνεργασία της Φιλαρμονικής Ορχήστρας Λουτρακίου. Η ορχήστρα θα παρουσιάσει ένα αφιέρωμα στους Λάκωνες ποιητές Γιάννη Ρίτσο και Νικηφόρο Βρεττάκο\, σε μουσική Πηγής Λυκούδη\, με δύο σολίστ και έναν αφηγητή. \n\nΤο Φεστιβάλ Λουτρακίου\, δημιουργήθηκε το 2014 από το Σύλλογο Φίλων Μουσικής\, και τον Δήμο Λουτρακίου – Περαχώρας – Αγίων Θεοδώρων\, έχοντας ως στόχο την ανάδειξη της τοπικής καλλιτεχνικής δημιουργίας\, την εκπαίδευση\, αλλά και την ποιοτική ψυχαγωγία\, όχι μόνο για την πόλη του Λουτρακίου\, αλλά και για την Κορινθία γενικότερα. Κατά τη διάρκεια του όλη η πόλη γίνεται ένα\, για να υποδεχτεί τους καλλιτέχνες και τα μουσικά σχήματα\, σε δημόσιους\, αρχαιολογικούς και παραθαλάσσιους χώρους. \nΚατά τα προηγούμενα χρόνια\, σπουδαίοι ερμηνευτές και ερμηνεύτριες έχουν τιμήσει με την παρουσία τους το Φεστιβάλ και συνέπραξαν με τα υψηλού επιπέδου μουσικά σύνολα της πόλης. Επίσης παρουσιάστηκαν ξεχωριστές θεατρικές παραστάσεις\, εκθέσεις\, έγιναν σεμινάρια και διαλέξεις\, πραγματοποιήθηκαν αφιερώματα σε σπουδαίες προσωπικότητες τής χώρας και αναδείχθηκαν νέοι χώροι πολιτισμού απ’ άκρη σ’ άκρη στον Δήμο Λουτρακίου – Περαχώρας – Αγίων Θεοδώρων. \nΜερικοί μόνο από τους καλλιτέχνες που έχουν συμμετάσχει κατά καιρούς στο Φεστιβάλ Λουτρακίου είναι η Άλκηστις Πρωτοψάλτη\, οι Ιμάμ Μπαιλντί\, ο Γιάννης Κότσιρας\, η Ελένη Πέττα\, ο Στέφανος Κορκολής\, ο Παντελής Θαλασσινός\, ο Χρόνης Αηδονίδης\, η Ελευθερία Αρβανιτάκη\, η Νατάσα Μποφίλιου\, ο Χρήστος Θηβαίος\, ο Σωκράτης Μάλαμας κ.α. \nΦέτος συμπληρώνονται οχτώ χρόνια συνεχούς παρουσίας\, αποδεικνύοντας έμπρακτα ότι το Loutraki Festival αποτελεί θεσμό για την ευρύτερη περιοχή και βρίσκεται πια στον κατάλογο των σημαντικότερων διοργανώσεων της χώρας μας. \nΓια περισσότερες πληροφορίες επισκεφτείτε την ιστοσελίδα Loutraki Festival \n
URL:https://loutraki.gov.gr/en/event/loutraki-festival-2022/
CATEGORIES:
ATTACH;FMTTYPE=image/png:https://loutraki.gov.gr/wp-content/uploads/2022/02/loutraki-festival.png
END:VEVENT
END:VCALENDAR