BEGIN:VCALENDAR
VERSION:2.0
PRODID:-//Δήμος Λουτρακίου - ECPv4.6.12//NONSGML v1.0//EN
CALSCALE:GREGORIAN
METHOD:PUBLISH
X-WR-CALNAME:Δήμος Λουτρακίου
X-ORIGINAL-URL:https://loutraki.gov.gr/en
X-WR-CALDESC:Events for Δήμος Λουτρακίου
BEGIN:VEVENT
DTSTART;TZID=Europe/Athens:20220520T080000
DTEND;TZID=Europe/Athens:20220522T170000
DTSTAMP:20260423T171634
CREATED:20220329T080402Z
LAST-MODIFIED:20220517T073722Z
UID:25468-1653033600-1653238800@loutraki.gov.gr
SUMMARY:«Λαϊκός Πολιτισμός\, Πολιτιστική Διαχείριση και Τουριστικό Αποτύπωμα»
DESCRIPTION:Ο «Σύνδεσμος Λουτρακιωτών-Περαχωριτών–Ο Ίβυκος» διοργανώνει για πρώτη φορά\, την Παρασκευή 20\, Σάββατο 21 & Κυριακή 22 Μαΐου 2022 και σας προσκαλεί με μεγάλη χαρά στην 3ήμερη δράση του: \n«Εθνογραφικό Εργαστήρι: Λαϊκός Πολιτισμός\, Πολιτιστική Διαχείριση και Τουριστικό Αποτύπωμα». \nΤο εθνογραφικό εργαστήρι τελεί υπό την αιγίδα της Διεύθυνσης Νεότερης Πολιτιστικής Κληρονομιάς του Υπουργείου Πολιτισμού και Αθλητισμού\, της Περιφέρειας Πελοποννήσου & του Δήμου Λουτρακίου – Περαχώρας – Αγίων Θεοδώρων και θα λάβει χώρα στο Λουτράκι και την Περαχώρα Κορινθίας. \nΜεγάλοι Χορηγοί: Motor Oil\, Club Hotel Casino Loutraki. \nΧορηγοί: Σύλλογος Επισιτιστών Λουτρακίου «Ξένιος Ζευς»\, Επιμελητήριο Κορινθίας\, Τουριστικός Οργανισμός Λουτρακίου-LTO. \n \nΠρόγραμμα Εθνογραφικού Εργαστηρίου \n \n \n \n \n \n  \n\nΟ ΙΒΥΚΟΣ Σύνδεσμος Λουτρακιωτών – Περαχωριτών υπό την αιγίδα της Διεύθυνση Νεότερης Πολιτιστικής Κληρονομιάς του Υπουργείο Πολιτισμού και Αθλητισμού διοργανώνει στις 20\,21 και 22 Μαΐου την δράση «Εθνογραφικό Εργαστήρι: Λαϊκός Πολιτισμός\, Πολιτιστική Διαχείριση και Τουριστικό Αποτύπωμα»\, που θα λάβει χώρα στο #Λουτράκι και την #Περαχώρα Κορινθίας. \nΤο τριήμερο εργαστήρι περιλαμβάνει: \nΕισηγήσεις θεωρητικών και μεθοδολογικών ζητημάτων των σύγχρονων λαογραφικών και ανθρωπολογικών επιστημών\, με την συμμετοχή καταξιωμένων ακαδημαϊκών και ερευνητών.\nΆσκηση στην επιτόπια εθνογραφική έρευνα με την πραγματοποίηση συνεντεύξεων και λαογραφικών καταγραφών στο Λουτράκι και στην Περαχώρα.\nΕπισκέψεις σε τοπικές λαογραφικές συλλογές και κριτική αποτίμηση του περιεχομένου τους με την συμμετοχή και την επίβλεψη μουσειολόγων.\nΠαρουσίαση σύγχρονων πρότζεκτ πολιτιστικής διαχείρισης και τουριστικής ανάδειξης στοιχείων του ελληνικού λαϊκού πολιτισμού από πολιτιστικούς διαχειριστές.\nΠροβολή και σχολιασμό εθνογραφικών ντοκιμαντέρ με την συμμετοχή των συντελεστών τους.\nΕργαστήρι οπτικής ανθρωπολογίας για την εκπαίδευση των συμμετεχόντων στις νέες τεχνολογίες και στα κύρια εργαλεία οπτικής αποτύπωσης και ψηφιακής ανάδειξης πτυχών του λαϊκού πολιτισμού.\nΒιωματικά σεμινάρια μύησης των συμμετεχόντων στην τοπική μουσικοχορευτική παράδοση\, με την συμμετοχή ντόπιων και την πραγματοποίηση γλεντιού με ζωντανή παραδοσιακή ορχήστρα. \nΕπιστημονικός υπεύθυνος: Θάνος Κώτσης \n \n\n \n\n\nΓια περισσότερες πληροφορίες και εγγραφές\, μπορείτε να παρακολουθείτε τις αναρτήσεις της σελίδας του εργαστηρίου (ακολουθεί) που θα εμπλουτίζεται καθημερινά\, καθώς και να επικοινωνείτε με τον φορέα διοργάνωσης και με τον επιστημονικό υπεύθυνο της δράσης στα παρακάτω mail\, αλλά και στα αντίστοιχα profiles στα social media. \nΠληροφορίες εγγραφών  \n \nΣελίδα εργαστηρίου: https://bit.ly/3tWs3nX \nΕγγραφές: ivykos.gr.1984@gmail.com\nMail: ivykos.gr.1984@gmail.com \, thanoskotsis@hotmail.com \n  \n  \n
URL:https://loutraki.gov.gr/en/event/laikos-politismos-politistiki-diacheirisi-kai-toyristiko-apotypoma/
LOCATION:Αγίου Ιωάννου 10 & Κολοκοτρώνη (γωνία)\, Λουτράκι\, Κορινθία\, 20300\, Ελλάδα
GEO:37.9764937;22.9784276
X-APPLE-STRUCTURED-LOCATION;VALUE=URI;X-ADDRESS=Αγίου Ιωάννου 10 & Κολοκοτρώνη (γωνία) Λουτράκι Κορινθία 20300 Ελλάδα;X-APPLE-RADIUS=500;X-TITLE=Αγίου Ιωάννου 10 & Κολοκοτρώνη (γωνία):geo:22.9784276,37.9764937
CATEGORIES:Εκπαιδευτικές,
ATTACH;FMTTYPE=image/jpeg:https://loutraki.gov.gr/wp-content/uploads/2022/03/ΙΒΥΚΟΣ_ΤΡΙΜΕΡΟ-ΕΡΓΑΣΤΗΡΙ.jpg
ORGANIZER;CN="%CE%99%CE%92%CE%A5%CE%9A%CE%9F%CE%A3%20%CE%A3%CF%8D%CE%BD%CE%B4%CE%B5%CF%83%CE%BC%CE%BF%CF%82%20%CE%9B%CE%BF%CF%85%CF%84%CF%81%CE%B1%CE%BA%CE%B9%CF%89%CF%84%CF%8E%CE%BD%20-%20%CE%A0%CE%B5%CF%81%CE%B1%CF%87%CF%89%CF%81%CE%B9%CF%84%CF%8E%CE%BD":MAILTO:info@ivykos.gr
END:VEVENT
END:VCALENDAR