BEGIN:VCALENDAR
VERSION:2.0
PRODID:-//Δήμος Λουτρακίου - ECPv4.6.12//NONSGML v1.0//EN
CALSCALE:GREGORIAN
METHOD:PUBLISH
X-WR-CALNAME:Δήμος Λουτρακίου
X-ORIGINAL-URL:https://loutraki.gov.gr/en
X-WR-CALDESC:Events for Δήμος Λουτρακίου
BEGIN:VEVENT
DTSTART;TZID=Europe/Athens:20191102T140000
DTEND;TZID=Europe/Athens:20191103T163000
DTSTAMP:20260424T103903
CREATED:20191022T095838Z
LAST-MODIFIED:20191101T103016Z
UID:18805-1572703200-1572798600@loutraki.gov.gr
SUMMARY:Κύπελλο Τραμπολίνο Ατομικού Α’-Β’-Γ’-Δ’ Κατηγοριών
DESCRIPTION:Κύπελλο Τραμπολίνο Ατομικού Α’-Β’-Γ’-Δ’ Κατηγοριών (Ανδρών-Γυναικών\, Εφήβων-Νεανίδων\, Παίδων-Κορασίδων\, Παμπαίδων-Παγκορασίδων). \nΟι αγώνες θα γίνουν στο Λουτράκι\, στο Δημοτικό Κλειστό Γυμναστήριο Λουτρακίου «Γ. Γαλανόπουλος»\, την Κυριακή 3 Νοεμβρίου 2019. \nΤα προγράμματά τους θα παρουσιάσουν\, μεταξύ άλλων\, οι πρωταθλητές της κατηγορίας ανδρών Μάριος Γράψας\, Νίκος Σαββίδης και της κατηγορίας γυναικών Λίλα Κασάπογλου\, Αντωνία Σακελλαρίδου\, που θα εκπροσωπήσουν τα ελληνικά χρώματα στο προσεχές προ-Ολυμπιακό παγκόσμιο πρωτάθλημα τραμπολίνο του Τόκιο. \nΤο Κύπελλο Τραμπολίνο θα καλυφθεί με «ζωντανή» διαδικτυακή μετάδοση (live stream) από την ΕΡΜΗΣ PRODUCTION. \n \n\nΑπό την Ελληνική Γυμναστική Ομοσπονδία (Ε.Γ.Ο.) προκηρύσσεται το Κύπελλο Τραμπολίνο Ατομικού Α’-Β’-Γ’-Δ’ Κατηγοριών (Ανδρών-Γυναικών\, Εφήβων-Νεανίδων\, Παίδων-Κορασίδων\, Παμπαίδων-Παγκορασίδων). \nΟι αγώνες θα γίνουν στο Λουτράκι\, στο Δημοτικό Κλειστό Γυμναστήριο Λουτρακίου «Γ. Γαλανόπουλος»\, στις 03 Νοεμβρίου 2019. \nΔείτε ΕΔΩ την προκήρυξη του Κυπέλλου Τραμπολίνο \nΔείτε ΕΔΩ τη λίστα των αθλητών-αθλητριών με δικαίωμα συμμετοχής \nΔείτε ΕΔΩ το πρόγραμμα των αγώνων \n
URL:https://loutraki.gov.gr/en/event/kypello-trampolino-atomikoy-a-v-g-d-katigorion/
LOCATION:Λεωφόρος Αθηνών\, Λουτράκι\, 20300
GEO:37.945996;22.9761642
X-APPLE-STRUCTURED-LOCATION;VALUE=URI;X-ADDRESS=Λεωφόρος Αθηνών Λουτράκι 20300;X-APPLE-RADIUS=500;X-TITLE=Λεωφόρος Αθηνών:geo:22.9761642,37.945996
CATEGORIES:Αθλητικές
ATTACH;FMTTYPE=image/jpeg:https://loutraki.gov.gr/wp-content/uploads/2019/10/trambolino-loutraki-2-1_2018.jpg
END:VEVENT
END:VCALENDAR