BEGIN:VCALENDAR
VERSION:2.0
PRODID:-//Δήμος Λουτρακίου - ECPv4.6.12//NONSGML v1.0//EN
CALSCALE:GREGORIAN
METHOD:PUBLISH
X-WR-CALNAME:Δήμος Λουτρακίου
X-ORIGINAL-URL:https://loutraki.gov.gr/en
X-WR-CALDESC:Events for Δήμος Λουτρακίου
BEGIN:VEVENT
DTSTART;TZID=Europe/Athens:20240114T110000
DTEND;TZID=Europe/Athens:20240114T170000
DTSTAMP:20260422T223559
CREATED:20240108T120159Z
LAST-MODIFIED:20240108T120159Z
UID:28911-1705230000-1705251600@loutraki.gov.gr
SUMMARY:Κοπή Πίτας (Βασιλοκουλούρα – Μπουκουβάλα 2024)
DESCRIPTION:Ο Σύλλογος Σαρακατσαναίων Πελοποννήσου «Οι Τσελιγκάδες» μας προσκαλεί στο διήμερο των εκδηλώσεων που αφορούν στην Κοπή Πίτας (Βασιλοκουλούρα – Μπουκουβάλα 2024) της Πανελλήνιας Ομοσπονδίας Συλλόγων Σαρακατσαναίων. \n\n# Πρόγραμμα #\n1η Ημέρα\, Σάββατο 13 Ιανουαρίου 2024 – Επιστημονική Εσπερίδα – Αλεξάνδρειο Συνεδριακό Κέντρο Λουτρακίου και το βράδυ ο Χορός μας στο Corinthian Palace\, στον Σολομό Κορινθίας\n\n\n2η Ημέρα\, Κυριακή 14 Ιανουαρίου 2024 – Το Παραδοσιακό μας Αντάμωμα για την κοπή της Πίτας της Πανελλήνιας Ομοσπονδίας Συλλόγων Σαρακατσαναίων με Παραδοσιακούς χορούς από Συλλόγους Σαρακατσαναίων. Γλέντι με παραδοσιακή Σαρακατσάνικη ορχήστρα.\n\n\nΟι εκδηλώσεις τελούν υπό την αιγίδα της Περιφέρειας Πελοποννήσου και του Δήμος Λουτρακίου – Περαχώρας – Αγίων Θεοδώρων.\n\n \nΠρόγραμμα Εκδήλωσης\n \n   \n
URL:https://loutraki.gov.gr/en/event/kopi-pitas-vasilokoyloyra-mpoykoyvala-2024-2/
LOCATION:Λεωφόρος Αθηνών\, Λουτράκι\, 20300
GEO:37.945996;22.9761642
X-APPLE-STRUCTURED-LOCATION;VALUE=URI;X-ADDRESS=Λεωφόρος Αθηνών Λουτράκι 20300;X-APPLE-RADIUS=500;X-TITLE=Λεωφόρος Αθηνών:geo:22.9761642,37.945996
CATEGORIES:
ATTACH;FMTTYPE=image/jpeg:https://loutraki.gov.gr/wp-content/uploads/2024/01/ΜΠΟΥΚΟΥΒΑΛΑ-2024_Πρόσκληση-1-2.jpg
END:VEVENT
END:VCALENDAR