BEGIN:VCALENDAR
VERSION:2.0
PRODID:-//Δήμος Λουτρακίου - ECPv4.6.12//NONSGML v1.0//EN
CALSCALE:GREGORIAN
METHOD:PUBLISH
X-WR-CALNAME:Δήμος Λουτρακίου
X-ORIGINAL-URL:https://loutraki.gov.gr/en
X-WR-CALDESC:Events for Δήμος Λουτρακίου
BEGIN:VEVENT
DTSTART;TZID=Europe/Athens:20200216T110000
DTEND;TZID=Europe/Athens:20200216T110000
DTSTAMP:20260424T024108
CREATED:20200211T132152Z
LAST-MODIFIED:20200211T132152Z
UID:19570-1581850800-1581850800@loutraki.gov.gr
SUMMARY:ΚΟΠΗ ΠΙΤΑΣ ΦΙΛΑΡΜΟΝΙΚΗΣ ΟΡΧΗΣΤΡΑΣ ΔΗΜΟΥ
DESCRIPTION:Ο Δήμαρχος Λουτρακίου – Περαχώρας – Αγίων Θεοδώρων κ. Γεώργιος Γκιώνης\, ο Aντιδήμαρχος Πολιτισμού κ. Σάκης Παπαθανασίου\, ο Aρχιμουσικός κ. Πελοπίδας Μαυρόπουλος\, οι καθηγητές και τα μέλη της Φιλαρμονικής Ορχήστρας Λουτρακίου σας προσκαλούν στην κοπή της Πρωτοχρονιάτικης Πίτας του μουσικού σώματος που θα πραγματοποιηθεί στο Πνευματικό Κέντρο Λουτρακίου την Κυριακή 16 Φεβρουαρίου 2020 και ώρα 11.00 το πρωί. \n \nΠρόγραμμα: \n11.00 Συναυλία τμημάτων Φιλαρμονικής\n11.30 Απολογισμός 2019 και παρουσίαση δραστηριοτήτων 2020\n11.45 Κοπή Πίτας \nΣας περιμένουμε! \n\nΦιλαρμονική Ορχήστρα Λουτρακίου\nΚολοκοτρώνη 17 \nΠληροφορίες: 6948574703 \n
URL:https://loutraki.gov.gr/en/event/kopi-pitas-filarmonikis-orchistras-dimoy/
LOCATION:Κολοκοτρώνη 17\, Λουτράκι\, 20300\, Ελλάδα
GEO:37.9764333;22.9785725
X-APPLE-STRUCTURED-LOCATION;VALUE=URI;X-ADDRESS=Κολοκοτρώνη 17 Λουτράκι 20300 Ελλάδα;X-APPLE-RADIUS=500;X-TITLE=Κολοκοτρώνη 17:geo:22.9785725,37.9764333
CATEGORIES:
ATTACH;FMTTYPE=image/jpeg:https://loutraki.gov.gr/wp-content/uploads/2020/02/thumbnail.jpg
END:VEVENT
END:VCALENDAR