BEGIN:VCALENDAR
VERSION:2.0
PRODID:-//Δήμος Λουτρακίου - ECPv4.6.12//NONSGML v1.0//EN
CALSCALE:GREGORIAN
METHOD:PUBLISH
X-WR-CALNAME:Δήμος Λουτρακίου
X-ORIGINAL-URL:https://loutraki.gov.gr/en
X-WR-CALDESC:Events for Δήμος Λουτρακίου
BEGIN:VEVENT
DTSTART;TZID=Europe/Athens:20190510T080000
DTEND;TZID=Europe/Athens:20190510T170000
DTSTAMP:20260424T212604
CREATED:20190510T113007Z
LAST-MODIFIED:20190510T113007Z
UID:17754-1557475200-1557507600@loutraki.gov.gr
SUMMARY:Καθαρισμός βυθού στα πευκάκια Αγ. Θεοδώρων
DESCRIPTION:Σαββάτο 11/05/2019 και ώρα 13:00 καθαρίζουμε τον βυθό στην παραλία Πευκάκια στους Αγίους Θεοδώρους \n
URL:https://loutraki.gov.gr/en/event/katharismos-vythoy-sta-peykakia-ag-theodoron/
CATEGORIES:Περιβαλλοντικές
ATTACH;FMTTYPE=image/jpeg:https://loutraki.gov.gr/wp-content/uploads/2019/05/νεα-αφισα-αγ-θεοδωροι.jpg
END:VEVENT
END:VCALENDAR