BEGIN:VCALENDAR
VERSION:2.0
PRODID:-//Δήμος Λουτρακίου - ECPv4.6.12//NONSGML v1.0//EN
CALSCALE:GREGORIAN
METHOD:PUBLISH
X-WR-CALNAME:Δήμος Λουτρακίου
X-ORIGINAL-URL:https://loutraki.gov.gr/en
X-WR-CALDESC:Events for Δήμος Λουτρακίου
BEGIN:VEVENT
DTSTART;TZID=Europe/Athens:20240711T080000
DTEND;TZID=Europe/Athens:20240731T170000
DTSTAMP:20260422T144428
CREATED:20240709T103259Z
LAST-MODIFIED:20240809T084211Z
UID:29972-1720684800-1722445200@loutraki.gov.gr
SUMMARY:"Η Ελλάδα κατά του Καρκίνου"
DESCRIPTION:Πρόσκληση για συμμετοχή στην 2η φάση του προγράμματος πληθυσμιακού ελέγχου σε όλο τον γυναικείο πληθυσμό του Δήμου Λουτρακίου – Περαχώρας -Αγ.Θεοδώρων. \n\nΑγαπητές κυρίες\,\nΜε ιδιαίτερη χαρά σάς πληροφορούμε\, ότι στο πλαίσιο του προγράμματος «Η ΕΛΛΑΔΑ ΚΑΤΑ ΤΟΥ ΚΑΡΚΙΝΟΥ»\, το «ΕΛΛΗΝΙΚΟ ΙΔΡΥΜΑ ΟΓΚΟΛΟΓΙΑΣ» ξεκινά την 2η φάση του προγράμματος πληθυσμιακού ελέγχου για πρόληψη και έγκαιρη διάγνωση των κακοηθών όγκων μαστού και τραχήλου τής μήτρας\, στις γυναίκες που κατοικούν μόνιμα στον Δήμο Λουτρακίου – Περαχώρας – Αγ. Θεοδώρων. \n\nΘα ήταν για εμάς ευχαρίστηση να δηλώσετε και πάλι την συμμετοχή σας στο υψίστης ανθρωπιστικής\, κοινωνικής και επιστημονικής σημασίας έργο που επιτελούμε και το οποίο στοχεύει στην περιφρούρηση της υγείας τού γυναικείου πληθυσμού τής χώρας και στην συγκεκριμένη περίπτωση των γυναικών τοy Δήμου Λουτρακίου – Περαχώρας – Αγ. Θεοδώρων. \n\nΣτόχος τού προγράμματος αυτού είναι η εξέταση όλων των γυναικών ηλικίας 25 έως 70 ετών με τεστ Παπανικολάου\, και των γυναικών από 40 ετών και άνω επιπροσθέτως με μαστογραφία. Επίσης\, σκοπό έχει και τον επανέλεγχο όλων των γυναικών\, που συμμετείχαν στον προηγούμενο κύκλο εξετάσεων του συγκεκριμένου προγράμματος. Στις γυναίκες ηλικίας από 30 έως 50 ετών θα διενεργείται τεστ Παπ με την νέα μέθοδο υγρής φάσης thin prep και θα γίνεται μοριακή ταυτοποίηση του ιού HPV. \n\nΗ ειδική αυτοκίνητη μονάδα\, στην οποία γίνονται οι εξετάσεις\, θα βρίσκεται από την Πέμπτη 11 Ιουλίου 2024 στο Λουτράκι (έναντι Κέντρου Υγείας)\, και οι ενδιαφερόμενες μπορούν να επικοινωνούν\nστα τηλέφωνα 2744.360138 και 2713.610244 για να προγραμματίσουν το ραντεβού τους. \n\nΟι εξετάσεις αυτές είναι ΑΚΙΝΔΥΝΕΣ\, ΑΝΩΔΥΝΕΣ\, ΕΓΚΥΡΕΣ και προσφέρονται ΔΩΡΕΑΝ. Την κάλυψη της δαπάνης για όλη την διεξαγωγή του προγράμματος πληθυσμιακού ελέγχου\, ανέλαβε το «ΕΛΛΗΝΙΚΟ ΙΔΡΥΜΑ ΟΓΚΟΛΟΓΙΑΣ» χάρις στην πλήρη χορηγία του ΕΛΛΗΝΙΚΟΥ ΑΝΤΙΚΑΡΚΙΝΙΚΟΥ ΙΝΣΤΙΤΟΥΤΟΥ.\nΠροκειμένου να προγραμματίσουμε μία όσο το δυνατόν άρτια από κάθε άποψη\, προσφερομένη υπηρεσία\, σας παρακαλούμε να δηλώσετε έγκαιρα την συμμετοχή σας. \n\nΕυελπιστώντας στη θετική και άμεση ανταπόκρισή σας στο κάλεσμά μας\, σας ευχαριστούμε εκ των προτέρων. \n  \nΜε φιλικούς χαιρετισμούς \n\nΓια το Δ.Σ. του Ελληνικού Ιδρύματος Ογκολογίας\, \nΜιχαήλ Βροντάκης | Πρόεδρος \n\nΓια την Π.Ε.Κορινθίας\, \nΑναστάσιος Γκιολής | Αντιπεριφερειάρχης \n\nΓια τον Δήμο Λουτρακίου – Περαχώρας – Αγ.Θεοδώρων\, \nΓεώργιος Γκιώνης | Δήμαρχος \n\nΓια τον Ιατρικό Σύλλογο Κορινθίας\,\nΧρυσοβαλάντης Μέλλος | Πρόεδρος \n
URL:https://loutraki.gov.gr/en/event/i-ellada-kata-toy-karkinoy/
LOCATION:Τέρμα Καραϊσκάκη & Περικλέους\, ΛΟΥΤΡΑΚΙ\, Κορινθίας\, 20300\, Ελλάδα
GEO:37.972405;22.9816377
X-APPLE-STRUCTURED-LOCATION;VALUE=URI;X-ADDRESS=Τέρμα Καραϊσκάκη & Περικλέους ΛΟΥΤΡΑΚΙ Κορινθίας 20300 Ελλάδα;X-APPLE-RADIUS=500;X-TITLE=Τέρμα Καραϊσκάκη & Περικλέους:geo:22.9816377,37.972405
CATEGORIES:Υγείας
ATTACH;FMTTYPE=image/png:https://loutraki.gov.gr/wp-content/uploads/2024/07/Ανώνυμο-σχέδιο-1.png
END:VEVENT
END:VCALENDAR