BEGIN:VCALENDAR
VERSION:2.0
PRODID:-//Δήμος Λουτρακίου - ECPv4.6.12//NONSGML v1.0//EN
CALSCALE:GREGORIAN
METHOD:PUBLISH
X-WR-CALNAME:Δήμος Λουτρακίου
X-ORIGINAL-URL:https://loutraki.gov.gr/en
X-WR-CALDESC:Events for Δήμος Λουτρακίου
BEGIN:VEVENT
DTSTART;TZID=Europe/Athens:20210806T213000
DTEND;TZID=Europe/Athens:20210806T233000
DTSTAMP:20260422T162004
CREATED:20210730T191802Z
LAST-MODIFIED:20210730T192200Z
UID:24113-1628285400-1628292600@loutraki.gov.gr
SUMMARY:Γεωργία Νταγάκη
DESCRIPTION:Συναυλία με το μουσικό σχήμα της Γεωργίας Νταγάκη στο Ypanema!  \nΤο καλοκαίρι είναι εδώ και η Γεωργία Νταγάκη είναι έτοιμη να το μοιραστεί μαζί μας! Η ανυπομονησία για το αντάμωμα κι η ανάγκη για το «μαζί»\, ξορκίζει την «ξενιτιά» των δύσκολων ημερών που περάσαμε και δίνει στο καλοκαίρι μας την ελπίδα!  \nΗ Γεωργία Νταγάκη είναι έτοιμη να ταξιδέψει με «το καράβι της φυγής» για να συναντήσει «σώμα με σώμα» το κοινό της μετά από 9 μήνες απουσίας! \nΘα μας παρουσιάσει το ολοκαίνουργιο κόκκινο album της με τίτλο «Πάθος»\, σε ένα πρόγραμμα γεμάτο με σπουδαία τραγούδια που θα ερμηνεύσει ξεχωριστά με τον δικό της μοναδικό τρόπο! Απολαύστε την χωρίς «Φόβο» αλλά με πολύ «Πάθος»!!! \n  \nΜαζί της οι μουσικοί \nΒαγγέλης Στεφανόπουλος\, πλήκτρα \nΜιχάλης Ατσάλης\, κιθάρες \nΛουκάς Καλαντζάκος τύμπανα \n  \nΤηλέφωνο κρατήσεων: 2741091225 \n
URL:https://loutraki.gov.gr/en/event/georgias-ntagaki/
LOCATION:Λίμνη Βουλιαγμένης\, ΛΟΥΤΡΑΚΙ\, Κορινθία\, 20300
GEO:38.0327645;22.8730445
X-APPLE-STRUCTURED-LOCATION;VALUE=URI;X-ADDRESS=Λίμνη Βουλιαγμένης ΛΟΥΤΡΑΚΙ Κορινθία 20300;X-APPLE-RADIUS=500;X-TITLE=Λίμνη Βουλιαγμένης:geo:22.8730445,38.0327645
CATEGORIES:
ATTACH;FMTTYPE=image/jpeg:https://loutraki.gov.gr/wp-content/uploads/2021/07/Ntagaki.jpg
END:VEVENT
END:VCALENDAR