BEGIN:VCALENDAR
VERSION:2.0
PRODID:-//Δήμος Λουτρακίου - ECPv4.6.12//NONSGML v1.0//EN
CALSCALE:GREGORIAN
METHOD:PUBLISH
X-WR-CALNAME:Δήμος Λουτρακίου
X-ORIGINAL-URL:https://loutraki.gov.gr/en
X-WR-CALDESC:Events for Δήμος Λουτρακίου
BEGIN:VEVENT
DTSTART;TZID=Europe/Athens:20181104T110000
DTEND;TZID=Europe/Athens:20181104T130000
DTSTAMP:20260425T032920
CREATED:20181028T221653Z
LAST-MODIFIED:20181028T221653Z
UID:16898-1541329200-1541336400@loutraki.gov.gr
SUMMARY:Γεωπολιτικές αναταράξεις και Παγκοσμιοποίηση
DESCRIPTION:Η Ένωση Αποστράτων Αξιωματικών Στρατού Κορινθίας\, σας προσκαλεί την Κυριακή 04 Νοεμβρίου 2018 και ώρα 11 π.μ. στην ημερίδα που θα πραγματοποιηθεί στο Επιμελητήριο Κορίνθου\, με θέμα: «Γεωπολιτικές αναταράξεις και Παγκοσμιοποίηση». \nΟμιλητές οι κ.κ. Μάζης Ιωάννης – Καθηγητής Οικονομικής Γεωγραφίας και Γεωπολιτικής Παν. Αθηνών -\, Πανούσης Γιάννης – Ομότιμος Καθηγητής Παν. Αθηνών – και Πενταράς Ανδρέας – Αντιστράτηγος (ΕΑ) Εθνικής Φρουράς Κύπρου. \n
URL:https://loutraki.gov.gr/en/event/geopolitikes-anataraxeis-kai-pagkosmiopoiisi/
LOCATION:Ερμού 2\, Κόρινθος\, Κορινθία\, 20131\, Ελλάδα
CATEGORIES:Πολιτικές
ATTACH;FMTTYPE=image/jpeg:https://loutraki.gov.gr/wp-content/uploads/2018/10/ΔΕΛΤΙΟ-ΤΥΠΟΥ-ΑΝΑΚΟΙΝΩΣΗ.jpeg
END:VEVENT
END:VCALENDAR