BEGIN:VCALENDAR
VERSION:2.0
PRODID:-//Δήμος Λουτρακίου - ECPv4.6.12//NONSGML v1.0//EN
CALSCALE:GREGORIAN
METHOD:PUBLISH
X-WR-CALNAME:Δήμος Λουτρακίου
X-ORIGINAL-URL:https://loutraki.gov.gr/en
X-WR-CALDESC:Events for Δήμος Λουτρακίου
BEGIN:VEVENT
DTSTART;TZID=Europe/Athens:20241213T180000
DTEND;TZID=Europe/Athens:20241213T210000
DTSTAMP:20260422T044438
CREATED:20241201T105454Z
LAST-MODIFIED:20241202T110006Z
UID:30832-1734112800-1734123600@loutraki.gov.gr
SUMMARY:Φωταγώγηση Χριστουγεννιάτικου δέντρου | Σχίνος
DESCRIPTION:18:00 Φωταγώγηση Χριστουγεννιάτικου δέντρου \nΔρώμενα για παιδιά | ζωγραφική προσώπου (face painting) και μπαλονοκατασκευές \nΕικαστικό εργαστήρι | Γράμμα στον Αϊ Βασίλη από τον Πολιτιστικό Σύλλογο Αγίων Θεοδώρων «ΤΟ ΠΡΑΘΙ»\, με την εικαστικό Αθηνά Γυφτοπούλου \nΚεράσματα \n
URL:https://loutraki.gov.gr/en/event/fotagogisi-christoygenniatikoy-dentroy/
LOCATION:Σχίνος Λουτρακίου\, Σχίνος Λουτρακίου
GEO:38.0415574;23.0260539
X-APPLE-STRUCTURED-LOCATION;VALUE=URI;X-ADDRESS=Σχίνος Λουτρακίου Σχίνος Λουτρακίου;X-APPLE-RADIUS=500;X-TITLE=Σχίνος Λουτρακίου:geo:23.0260539,38.0415574
CATEGORIES:
ATTACH;FMTTYPE=image/png:https://loutraki.gov.gr/wp-content/uploads/2024/12/viber_image_2024-11-29_12-43-17-950.png
END:VEVENT
END:VCALENDAR