BEGIN:VCALENDAR
VERSION:2.0
PRODID:-//Δήμος Λουτρακίου - ECPv4.6.12//NONSGML v1.0//EN
CALSCALE:GREGORIAN
METHOD:PUBLISH
X-WR-CALNAME:Δήμος Λουτρακίου
X-ORIGINAL-URL:https://loutraki.gov.gr/en
X-WR-CALDESC:Events for Δήμος Λουτρακίου
BEGIN:VEVENT
DTSTART;TZID=Europe/Athens:20250908T203000
DTEND;TZID=Europe/Athens:20250908T230000
DTSTAMP:20260421T111618
CREATED:20250829T094428Z
LAST-MODIFIED:20250829T094428Z
UID:32252-1757363400-1757372400@loutraki.gov.gr
SUMMARY:Final Act\, Χ. Νινιός
DESCRIPTION:Και οι Final Act; Ναι\, και οι Fianl Act! \nΚαι ο Χρήστος Νινιός; Ναι\, και ο Χρήστος Νινιός! \nΚαι ο Σπύρος Γραμμένος; Ναι\, και ο Σπύρος Γραμμένος! \nΚαι ο Jerome Kaluta; Ναι και ο Jerome Kaluta! \nΚαι η Idra Kayne; Ναι και η Idra Kayne! \nΤο απόλυτο συναυλιακό πάρτι έρχεται στο Λουτράκι! Τη Δευτέρα 8 Σεπτεμβρίου\, το ανοιχτό θέατρο Παντελής Ζερβός στο Λουτράκι γεμίζει ρυθμό\, ενέργεια και συναίσθημα! Μια μοναδική βραδιά με καλλιτέχνες που υπόσχονται να ξεσηκώσουν το κοινό σε ένα εκρηκτικό μουσικό πάρτι γεμάτο «Ψυχή και Ρεύμα». \nΣτη σκηνή ανεβαίνουν: \n\nFinal Act\nΧρήστος Νινιός\nΣπύρος Γραμμένος\nJerome Kaluta\nIdra Kayne\n\nΗ έναρξη της συναυλίας είναι στις 20:30. \n Εισιτήρια: 15€\n Προπώληση: 12€ \n Προμηθευτείτε έγκαιρα τα εισιτήριά σας από το σημείο προπώλησης: \nΔΙΑ ΧΕΙΡΟΣ ΒΕΝΙΕΡΗ\, Ελευθερίου Βενιζέλου 12\, Λουτράκι \n●Eight coffee bar Εθνικής Αντιστάσεως 8Κόρινθος \n●Jack Rabbit Slim’s Πυλαρινού 70 \n●Zeppelin Cafe Bar Εθνικής Αντιστάσεως 92 \nΗ εκδήλωση πραγματοποιείται υπό την αιγίδα του Δήμου Λουτρακίου – Περαχώρας – Αγίων Θεοδώρων και τη διοργάνωση του Α.Σ. Γερανοί Λουτρακίου. \nΜην το χάσετε – ζήστε τη συναυλία που θα σας μείνει αξέχαστη! \n\n\n\n
URL:https://loutraki.gov.gr/en/event/final-act-ch-ninios/
LOCATION:Πάρκο Δεξαμενής\, Λουτράκι\, 20300\, Ελλάδα
GEO:37.9727548;22.9858004
X-APPLE-STRUCTURED-LOCATION;VALUE=URI;X-ADDRESS=Πάρκο Δεξαμενής Λουτράκι 20300 Ελλάδα;X-APPLE-RADIUS=500;X-TITLE=Πάρκο Δεξαμενής:geo:22.9858004,37.9727548
CATEGORIES:
ATTACH;FMTTYPE=image/jpeg:https://loutraki.gov.gr/wp-content/uploads/2025/08/MEPSYXHKAIREUMA2025-COVER-EVENT-FACEBOOK.jpg
END:VEVENT
END:VCALENDAR