BEGIN:VCALENDAR
VERSION:2.0
PRODID:-//Δήμος Λουτρακίου - ECPv4.6.12//NONSGML v1.0//EN
CALSCALE:GREGORIAN
METHOD:PUBLISH
X-WR-CALNAME:Δήμος Λουτρακίου
X-ORIGINAL-URL:https://loutraki.gov.gr/en
X-WR-CALDESC:Events for Δήμος Λουτρακίου
BEGIN:VEVENT
DTSTART;TZID=Europe/Athens:20250528T183000
DTEND;TZID=Europe/Athens:20250528T203000
DTSTAMP:20260421T231933
CREATED:20250528T091342Z
LAST-MODIFIED:20250528T130224Z
UID:31686-1748457000-1748464200@loutraki.gov.gr
SUMMARY:Φιλανθρωπικός Ποδοσφαιρικός Αγώνας
DESCRIPTION:\nΦιλανθρωπικός Ποδοσφαιρικός Αγώνας – Στηρίζουμε τη ΦΛΟΓΑ με το Δημοτικό Σχολείο Ισθμίας να σας προσκαλεί σε έναν ξεχωριστό αγώνα προσφοράς και αγάπης!\nΤετάρτη 28 Μαΐου 2025\n\n\nΏρα: 18:30\nΘώδειο Στάδιο Λουτρακίου\n\n\nΣυμμετέχουν:\nΠΣΑΠΠ (Πανελλήνιος Σύνδεσμος Ποδοσφαιριστών Ποδοσφαιριστριών)\nΣύνδεσμος Παλαιμάχων Ποδοσφαιριστών Ν. Κορινθίας\n\n\nΌλα τα έσοδα θα διατεθούν στον Σύλλογο “ΦΛΟΓΑ” για τη στήριξη παιδιών με καρκίνο.\n\n\nΑρωγοί στην εκδήλωση:\nΔήμος Λουτρακίου – Περαχώρας – Αγ. Θεοδώρων\, ΕΠΣ Κορινθίας\, Θώδειο Στάδιο\, Κέντρο Υγείας Λουτρακίου\, ΠΣΑΠΠ\, ΣΠΠ Ν. Κορινθίας.\n\n\nΕισιτήρια & Πληροφορίες:\nκα Εύη Παντελέων – 6977878481\n\n\nΕλάτε να δείξουμε όλοι μαζί πως ο αθλητισμός μπορεί να γίνει πράξη αγάπης και αλληλεγγύης!\n\n\n\n
URL:https://loutraki.gov.gr/en/event/filanthropikos-podosfairikos-agonas/
LOCATION:Στάδιο Λουτρακίου\, ΛΟΥΤΡΑΚΙ\, 20300\, Ελλάδα
GEO:37.9660214;22.9792319
X-APPLE-STRUCTURED-LOCATION;VALUE=URI;X-ADDRESS=Στάδιο Λουτρακίου ΛΟΥΤΡΑΚΙ 20300 Ελλάδα;X-APPLE-RADIUS=500;X-TITLE=Στάδιο Λουτρακίου:geo:22.9792319,37.9660214
CATEGORIES:Αθλητικές
ATTACH;FMTTYPE=image/jpeg:https://loutraki.gov.gr/wp-content/uploads/2025/05/agapaiagonaisthmis155.jpg
END:VEVENT
END:VCALENDAR