BEGIN:VCALENDAR
VERSION:2.0
PRODID:-//Δήμος Λουτρακίου - ECPv4.6.12//NONSGML v1.0//EN
CALSCALE:GREGORIAN
METHOD:PUBLISH
X-WR-CALNAME:Δήμος Λουτρακίου
X-ORIGINAL-URL:https://loutraki.gov.gr/en
X-WR-CALDESC:Events for Δήμος Λουτρακίου
BEGIN:VEVENT
DTSTART;TZID=Europe/Athens:20250516T080000
DTEND;TZID=Europe/Athens:20250516T170000
DTSTAMP:20260422T020443
CREATED:20250516T125110Z
LAST-MODIFIED:20250516T125110Z
UID:31602-1747382400-1747414800@loutraki.gov.gr
SUMMARY:Φιλανθρωπικός Ποδοσφαιρικός Αγώνας από το Δημοτικό Σχολείο Ισθμίας – Στηρίζουμε τη ΦΛΟΓΑ
DESCRIPTION:\nΦιλανθρωπικός Ποδοσφαιρικός Αγώνας από το Δημοτικό Σχολείο Ισθμίας – Στηρίζουμε τη ΦΛΟΓΑ\n \n\n\nΤο Δημοτικό Σχολείο Ισθμίας διοργανώνει έναν ξεχωριστό φιλικό ποδοσφαιρικό αγώνα φιλανθρωπικού χαρακτήρα την Τετάρτη 28 Μαΐου 2025\, στις 18:30\, στο Θώδειο Δημοτικό Στάδιο Λουτρακίου.\n \n\n\nΣτον αγώνα θα συμμετάσχουν η ομάδα ποδοσφαιριστών του ΠΣΑΠΠ (Πανελλήνιος Σύνδεσμος Ποδοσφαιριστών Ποδοσφαιριστριών) και οι παλαίμαχοι ποδοσφαιριστές του Σ.Π.Π. Ν. Κορινθίας (Σύνδεσμος Παλαίμαχων Ποδοσφαιριστών Νομού Κορινθίας)\, ενώνoντας τις δυνάμεις τους για έναν σκοπό που ξεπερνά τον αθλητισμό.\n \n\n\nΗ εκδήλωση εντάσσεται στις κοινωνικές δράσεις του σχολείου και έχει ως στόχο την ενίσχυση του Συλλόγου Γονιών Παιδιών με Νεοπλασματική Ασθένεια «Η ΦΛΟΓΑ»\, ο οποίος στηρίζει παιδιά που πάσχουν από καρκίνο και τις οικογένειές τους. Όλα τα έσοδα από τα εισιτήρια του αγώνα θα διατεθούν εξ ολοκλήρου στον Σύλλογο «Φλόγα».\n \n\n\nΑρωγοί στην προσπάθεια αυτή είναι:\n\n\n– Η ομάδα Π.Σ.Α.Π.Π. (Πανελλήνιος Σύνδεσμος Ποδοσφαιριστών Ποδοσφαιριστριών)\n\n\n– Ο Σ.Π.Π. Ν. Κορινθίας (Σύνδεσμος Παλαίμαχων Ποδοσφαιριστών Νομού Κορινθίας)\n\n\n– Ο Δήμος Λουτρακίου – Περαχώρας – Αγίων Θεοδώρων\n\n\n– Η Ε.Π.Σ. Κορινθίας (Ένωση Ποδοσφαιρικών Σωματείων Κορινθίας)\n\n\n– Το Θώδειο Δημοτικό Στάδιο Λουτρακίου\n\n\n– Το Κέντρο Υγείας Λουτρακίου\, που θα παρέχει ιατρική κάλυψη και ασθενοφόρο κατά τη διάρκεια του αγώνα\n \n\n\nΗ συμμετοχή του κοινού\, των τοπικών φορέων και των επιχειρήσεων είναι εξαιρετικά σημαντική για την επιτυχία της εκδήλωσης. Πρόκειται για μια γιορτή προσφοράς\, αλληλεγγύης και ανθρωπιάς\, που αναδεικνύει τις αξίες του αθλητισμού και της κοινωνικής συνοχής.\n \n\n\nΓια πληροφορίες και αγορά εισιτηρίων\, οι ενδιαφερόμενοι μπορούν να επικοινωνούν με την υπεύθυνη της διοργάνωσης\, κα Εύη Παντελέων\, ζωγράφο και καθηγήτρια εικαστικών στο Δημοτικό Σχολείο Ισθμίας\, στο τηλέφωνο 6977878481 ή μέσω email στο epsilon.art.studio@hotmail.com.\n\n
URL:https://loutraki.gov.gr/en/event/filanthropikos-podosfairikos-agonas-apo-to-dimotiko-scholeio-isthmias-stirizoyme-ti-floga/
CATEGORIES:Αθλητικές
ATTACH;FMTTYPE=image/jpeg:https://loutraki.gov.gr/wp-content/uploads/2025/05/497702114_10237894240921812_7591634188504234150_n.jpg
END:VEVENT
END:VCALENDAR