BEGIN:VCALENDAR
VERSION:2.0
PRODID:-//Δήμος Λουτρακίου - ECPv4.6.12//NONSGML v1.0//EN
CALSCALE:GREGORIAN
METHOD:PUBLISH
X-WR-CALNAME:Δήμος Λουτρακίου
X-ORIGINAL-URL:https://loutraki.gov.gr/en
X-WR-CALDESC:Events for Δήμος Λουτρακίου
BEGIN:VEVENT
DTSTART;TZID=Europe/Athens:20221221T180000
DTEND;TZID=Europe/Athens:20221221T203000
DTSTAMP:20260423T091451
CREATED:20221201T122357Z
LAST-MODIFIED:20221214T122529Z
UID:26872-1671645600-1671654600@loutraki.gov.gr
SUMMARY:Φιλανθρωπικός αγώνας – Εορταστικό Τουρνουά μπάσκετ για τη στήριξη του Κοινωνικού Παντοπωλείου
DESCRIPTION:Χριστουγεννιάτικη συνάντηση των ομάδων μπάσκετ Α.Ο. ΠΟΣΕΙΔΩΝ ΛΟΥΤΡΑΚΙΟΥ\, ΤΗΡΩΝ ΑΓΙΩΝ θΕΟΔΩΡΩΝ και Κ.Α.Ο. ΚΟΡΙΝΘΟΥ. Κατά τη διάρκεια του τουρνουά θα πραγματοποιείται συγκέντρωση τροφίμων\, τα οποία θα διατεθούν για τη στήριξη του Κοινωνικού Παντοπωλείου του Δήμου Λουτρακίου – Περαχώρας – Αγίων Θεοδώρων.  \n
URL:https://loutraki.gov.gr/en/event/filanthropikos-agonas-eortastiko-toyrnoya-mpasket-gia-ti-stirixi-toy-koinonikoy-pantopoleioy/
LOCATION:Λεωφόρος Αθηνών\, Λουτράκι\, 20300
GEO:37.945996;22.9761642
X-APPLE-STRUCTURED-LOCATION;VALUE=URI;X-ADDRESS=Λεωφόρος Αθηνών Λουτράκι 20300;X-APPLE-RADIUS=500;X-TITLE=Λεωφόρος Αθηνών:geo:22.9761642,37.945996
CATEGORIES:,
ATTACH;FMTTYPE=image/jpeg:https://loutraki.gov.gr/wp-content/uploads/2022/12/ΑΦΙΣΑ-ΤΟΥΡΝΟΥΑ-ΜΠΑΣΚΕΤ-ΓΙΑ-ΤΗΝ-ΕΝΙΣΧΥΣΗ-ΤΟΥ-ΚΟΙΝΩΝΙΚΟΥ-ΠΑΝΤΟΠΩΛΕΙΟΥ-ΤΟΥ-ΔΗΜΟΥ-21-12-2022.jpg
END:VEVENT
END:VCALENDAR