BEGIN:VCALENDAR
VERSION:2.0
PRODID:-//Δήμος Λουτρακίου - ECPv4.6.12//NONSGML v1.0//EN
CALSCALE:GREGORIAN
METHOD:PUBLISH
X-WR-CALNAME:Δήμος Λουτρακίου
X-ORIGINAL-URL:https://loutraki.gov.gr/en
X-WR-CALDESC:Events for Δήμος Λουτρακίου
BEGIN:VEVENT
DTSTART;TZID=Europe/Athens:20250827T203000
DTEND;TZID=Europe/Athens:20250827T223000
DTSTAMP:20260421T124011
CREATED:20250728T095743Z
LAST-MODIFIED:20250728T095743Z
UID:32092-1756326600-1756333800@loutraki.gov.gr
SUMMARY:ΦΕΣΤΙΒΑΛ ΧΟΡΩΔΙΩΝ
DESCRIPTION:ΧΟΡΩΔΙΑΚΑ ΚΑΙ ΜΟΥΣΙΚΑ ΣΧΗΜΑΤΑ ΑΠΌ ΤΣΕΧΙΑ\, ΛΙΘΟΥΑΝΙΑ ΚΑΙ ΛΕΤΟΝΙΑ \n \n
URL:https://loutraki.gov.gr/en/event/festival-chorodion/
LOCATION:Πάρκο Δεξαμενής\, Λουτράκι\, 20300\, Ελλάδα
GEO:37.9727548;22.9858004
X-APPLE-STRUCTURED-LOCATION;VALUE=URI;X-ADDRESS=Πάρκο Δεξαμενής Λουτράκι 20300 Ελλάδα;X-APPLE-RADIUS=500;X-TITLE=Πάρκο Δεξαμενής:geo:22.9858004,37.9727548
CATEGORIES:
ATTACH;FMTTYPE=image/jpeg:https://loutraki.gov.gr/wp-content/uploads/2025/07/εικόνα_Viber_2025-07-28_11-59-46-254.jpg
END:VEVENT
END:VCALENDAR