BEGIN:VCALENDAR
VERSION:2.0
PRODID:-//Δήμος Λουτρακίου - ECPv4.6.12//NONSGML v1.0//EN
CALSCALE:GREGORIAN
METHOD:PUBLISH
X-WR-CALNAME:Δήμος Λουτρακίου
X-ORIGINAL-URL:https://loutraki.gov.gr/en
X-WR-CALDESC:Events for Δήμος Λουτρακίου
BEGIN:VEVENT
DTSTART;TZID=Europe/Athens:20231221T170000
DTEND;TZID=Europe/Athens:20231221T210000
DTSTAMP:20260423T000657
CREATED:20231217T105443Z
LAST-MODIFIED:20231221T105837Z
UID:28847-1703178000-1703192400@loutraki.gov.gr
SUMMARY:Eτήσια χριστουγεννιάτικη γιορτή των καταστημάτων Λουτρακίου
DESCRIPTION:\n \n\n\nΘα είμαστε όλοι εκεί να γιορτάσουμε\, να μας κεράσουν και να μας ευχαριστήσουν με αμέτρητα δώρα!\n\n\n Με υπέροχες δραστηριότητες\, δρώμενα και μουσική που θα κατακλύσει τους δρόμους!\n\n\n Θα είμαστε όλοι εκεί!\n\n\n
URL:https://loutraki.gov.gr/en/event/etisia-christoygenniatiki-giorti-ton-katastimaton-loytrakioy/
LOCATION:Λουτράκι\, Λουτράκι\, 20300
GEO:37.9759033;22.9774589
X-APPLE-STRUCTURED-LOCATION;VALUE=URI;X-ADDRESS=Λουτράκι Λουτράκι 20300;X-APPLE-RADIUS=500;X-TITLE=Λουτράκι:geo:22.9774589,37.9759033
CATEGORIES:
ATTACH;FMTTYPE=image/jpeg:https://loutraki.gov.gr/wp-content/uploads/2023/12/408230540_10232791337751286_3031562549318207958_n.jpg
END:VEVENT
END:VCALENDAR