BEGIN:VCALENDAR
VERSION:2.0
PRODID:-//Δήμος Λουτρακίου - ECPv4.6.12//NONSGML v1.0//EN
CALSCALE:GREGORIAN
METHOD:PUBLISH
X-WR-CALNAME:Δήμος Λουτρακίου
X-ORIGINAL-URL:https://loutraki.gov.gr/en
X-WR-CALDESC:Events for Δήμος Λουτρακίου
BEGIN:VEVENT
DTSTART;TZID=Europe/Athens:20191201T100000
DTEND;TZID=Europe/Athens:20191201T153000
DTSTAMP:20260423T224009
CREATED:20191128T111007Z
LAST-MODIFIED:20191128T111007Z
UID:19038-1575194400-1575214200@loutraki.gov.gr
SUMMARY:ENDURO RIDING 3
DESCRIPTION:Το enduro riding 3 είναι γεγονός. \nΗ διαδρομή οριστικοποιήθηκε και με αφετηρία και τερματισμό τους Αγίους Θεοδώρους θα πραγματοποιηθεί την Κυριακή 01/12/19. Η εκκίνηση θα δοθεί στις 10:00 π.μ στον παλιό σιδηροδρομικό σταθμό της πόλης μας. Ένα διατηρητέο κτίριο που πρόσφατα ανακαινίστηκε από το δήμο μας. Ξεκινώντας λοιπόν από το γνωστό μας ξεροπόταμο κυρίως για ζέσταμα!!!! Οι γνώστες γνωρίζουν!!! Η διαδρομή θα έχει κυρίως καινούρια μονοπάτια που δεν έχουν χρησιμοποιηθεί ποτέ σε αγώνα ή άλλη βόλτα και κομμάτια εντελώς απάτητα. Τα μόνα γνωστά μονοπάτια που θα χρησιμοποιηθούν θα είναι στο κλείσιμο του κύκλου για την επιστροφή στους Αγίους Θεοδώρους. Δεν θα υπάρχουν επιλογές για hard και soft περάσματα\, όλοι θα τα κάνουμε όλα!!!! Γκαζερά θα χαρακτήριζε κάνεις τα περισσότερα από τα νέα μονοπάτια αλλά και κάποια με μια δυσκολία 6 στα 10 θα είναι ικανά να ανεβάσουν την αδρεναλίνη στα ύψη .\nΤο δύσκολο έργο στην φετινή διαδρομή ήταν να βγει χωρίς οι συμμετέχοντες να δουν και να απογοητευτούν από το καμένο δάσος που δυστυχώς είναι ένα μεγάλο κομμάτι του βουνού μας. Τα καταφέραμε όμως. Η διαδρομή θα είναι περίπου 70 χιλιόμετρα. Αυτοί που θα χρειαστούν ανεφοδιασμό θα φέρουν τα μπιτόνια τους στην αφετηρία και η διοργάνωση θα μεριμνήσει για την μεταφορά τους στο χώρο ανεφοδιασμού. Επιστρέφοντας πρώτα ο Θεός ??? να μην αλλάξετε γιατί όσοι θέλουν θα έχουν την δυνατότητα να συμμετέχουν σε έναν φιλικό αγώνα-έκπληξη (με έπαθλο φυσικά)\, τον οποίο θα έχει επιμεληθεί η λέσχη μας!!! Αναμνηστικό μπλουζάκι θα υπάρχει όπως πάντα. Κατεβάζετε τη φόρμα συμμετοχής .Συμπληρώνετε τα στοιχεία και την αποστέλλετε στο e-mail lemathmoto@hotmail.com (οι συμμετοχές θα πληρωθούν στη γραμματεία στο χώρο της εκκίνησης) κόστος συμμετοχής 15 ευρώ .\nΠιστοί στο καθεστώς του original enduro με μια εξ ολοκλήρου νέα διαδρομή με μονοπάτια που κανείς σας δεν έχει ξαναδεί αλλά ούτε καν φανταστεί\, η ΛΕ.Μ.Α.Θ σας προσκαλεί αλλά και προκαλεί!!! Ραντεβού λοιπόν 01/12/2019. \nΜείνετε συντονισμένοι για περισσότερες πληροφορίες. \nΤΗΛ. ΕΠΙΚΟΙΝΩΝΙΑΣ\n6908470022\n6974719507\n6988555444\n6936310340\n6982999045 \n \n
URL:https://loutraki.gov.gr/en/event/enduro-riding-3/
LOCATION:Άγιοι Θεόδωροι\, Κορινθια\, 20300\, Ελλάδα
GEO:37.9282447;23.1433311
CATEGORIES:Αθλητικές
ATTACH;FMTTYPE=image/jpeg:https://loutraki.gov.gr/wp-content/uploads/2019/11/enduro.jpg
ORGANIZER;CN="%CE%9B%CE%95%CE%9C%CE%91%CE%98%20%CE%91%CE%A3%20%20MOTO%20racing":MAILTO:lemathmoto@hotmail.com
END:VEVENT
END:VCALENDAR