BEGIN:VCALENDAR
VERSION:2.0
PRODID:-//Δήμος Λουτρακίου - ECPv4.6.12//NONSGML v1.0//EN
CALSCALE:GREGORIAN
METHOD:PUBLISH
X-WR-CALNAME:Δήμος Λουτρακίου
X-ORIGINAL-URL:https://loutraki.gov.gr/en
X-WR-CALDESC:Events for Δήμος Λουτρακίου
BEGIN:VEVENT
DTSTART;VALUE=DATE:20181214
DTEND;VALUE=DATE:20190104
DTSTAMP:20260425T032747
CREATED:20181212T191946Z
LAST-MODIFIED:20181214T130904Z
UID:17160-1544745600-1546559999@loutraki.gov.gr
SUMMARY:Ένας Δρόμος Χριστούγεννα
DESCRIPTION:\n					\n						κατεβάστε το πλήρες πρόγραμμα \n  \n\n\n					\n				\n					\n						15:00  Αγιοβασιλοδρομία φιλανθρωπικού χαρακτήρα με σημείο έναρξης στη συμβολή των οδών Ελ. Βενιζέλου και Μεγάλου Αλεξάνδρου (Τράπεζα Πειραιώς). \nΘα ακολουθήσουν : \nΧορευτικά του Δήμου Λουτρακίου – Περαχώρας – Αγίων Θεοδώρων με την Ιωάννα Χατζηαθανασίου και τη συμμετοχή συλλόγων και φορέων \n\nΖούμπα\, dance kids\, χορευτικές ομάδες\nSafari Experience by Dimitris Kolliakos – Σταθμός ΟΣΕ\nΔημιουργούμε ιδιαίτερα στυλ και όμορφα μαλλιά από τον Νεκτάριο Καλλιάρα – Da Alma\nΜαθητικό μουσικό φεστιβάλ από το Λύκειο Λουτρακίου σε συνεργασία με το Μουσικό σχολείοΒόλτα με το Ποδήλατο από το Γυμνάσιο Λουτρακίου\nKids Athletics από τα αθλητικά τμήματα του Α.Ο. Ποσειδών Λουτρακίου\nΦουσκωτό ποδόσφαιρο από τον Α.Ο. Λουτρακίου\nChristmas RUN με τη συμμετοχή συλλόγων και φορέων\n\nΣτον προαύλιο χώρο του ΚΕΠ Λουτρακίου θα πραγματοποιηθούν χορευτικά δρώμενα\, κάλαντα\, χριστουγεννιάτικα παραμύθια και άλλες εκπλήξεις με τη συμμετοχή των: ΣΕΟ ΤΤ Λουτρακίου\, Αυτοδύτες Λουτρακίου\, Σύλλογος Ελληνορωσικής Φιλίας\, Κοινωνικό Παντοπωλείο\, Δημοτικά σχολεία\, Σύλλογοι Γονέων σχολείων του Δήμου\, “Όραμα Ελπίδας” – Εθελοντές δότες μυελού των οστών (συνεργαζόμενο Κέντρο Περαχώρας)\, “ΚΟΙΝΣΕΠ Κύτταρο Γυναικών” κ.ά. \n17:00  FACE PAINTING\, Ξυλοπόδαροι\, Πλούσια Δώρα και εκπλήξεις \n17:30  Συναυλία με τον ΚΩΣΤΑ ΜΑΡΤΑΚΗ στην Πλατεία 25ης Μαρτίου \nΜε την αγορά λαχνών συμμετοχής αξίας 1€ προσφέρουμε στα παιδιά που έχουν ανάγκη και συμμετέχουμε στην κλήρωση για πλούσια δώρα: \n\nΈνα SONY PLAY STATION προσφορά του Συλλόγου Επισιτιστών “Ξένιος Ζευς”\nΈνα τριήμερο για δύο άτομα στη Ρώμη (αεροπορικά και διαμονή) προσφορά της Ένωσης Ξενοδόχων Ν. Κορινθίας και των τουριστικών γραφείων Λουτρακίου\nΔύο θέσεις κατασκήνωσης για έντεκα μέρες για τον μήνα Αύγουστο\, προσφορά του SPORTCAMP\nΜια φωτογραφική μηχανή\, προσφορά του Εξωραϊστικού Εκπολιτιστικού Συλλόγου Καλλιθέας Λουτρακίου\n\n  \nΣτα πλαίσια του Xmas Lucky Week (15/12 – 23/12) που διενεργεί η Ένωση Εμπόρων & Επαγγελματοβιοτεχνών Λουτρακίου\, θα ακολουθήσει κλήρωση με 1 Δωροεπιταγή αξίας 200€ και 2 Δωροεπιταγές αξίας 150€. \n  \n* Οι κληρώσεις θα γίνουν στο τέλος της συναυλίας. \nΠΑΡΑΛΛΗΛΕΣ ΔΡΑΣΕΙΣ ΣΤΟ ΛΟΥΤΡΑΚΙ\n14/12 ΕΩΣ 16/12\nΤριήμερο Bazaar με γιορτινές κατασκευές και Χριστουγεννιάτικα δώρα – Πολιτιστικός Σύλλογος Λουτρακίου “Μελαγκάβι”\, στο Café Central \n19/12 ΩΡΑ 18:00\nΧριστουγεννιάτικο τσάι – Ομάδα Συνεργασίας ΣΕΟ ΤΤ Λουτρακίου\, στο ξενοδοχείο THEOXENIA \n20/12 ΩΡΑ 18:00\nΧριστουγεννιάτικη Γιορτή στο ΚΑΠΗ Λουτρακίου \n22/12 ΩΡΑ 18:00\nΑφήγηση & δημιουργία Χριστουγεννιάτικων παραμυθιών – ΣΕΟ ΤΤ Λουτρακίου\, στο Grand Hotel Loutraki \nΩΡΑ 19:00\nΧριστουγεννιάτικη παράσταση “Η Μπουγάδα του Άϊ Βασίλη” – Εξωραϊστικός & Εκπολιτιστικός Σύλλογος Ισθμίας\, στο Αλεξάνδρειο Συνεδριακό Κέντρο Λουτρακίου \n22 & 23/12\nΧριστουγεννιάτικη συνάντηση Ποδοσφαιρικών Ακαδημιών με κοινωνικό χαρακτήρα – Α.Ο. Λουτράκι\, στο αθλητικό κέντρο SPORTCAMP\, υπό την αιγίδα του Δήμου \n23/12 ΩΡΑ 10:30πμ\nΧριστουγεννιάτικη γιορτή με ελληνικούς ύμνους και Χριστουγεννιάτικα κάλαντα – Χορωδία Λουτρακίου\, στον Ιερό Ναό Παναγίας Γιάτρισσας \n23/12 ΩΡΑ 19:00\nΧριστουγεννιάτικη παράσταση “Μια Ελληνική Χριστουγεννιάτικη Ιστορία”\, του Κάρολου Ντίκενς – ‘’ΙΒΥΚΟΣ’’\, στο Αλεξάνδρειο Συνεδριακό Κέντρο Λουτρακίου. Συμμετέχουν τα τμήματα παραδοσιακών χορών\, σύγχρονου χορού και μπαλέτου. *Αντί εισιτηρίου θα συλλεχθούν τρόφιμα μακράς διάρκειας \n27/12 ΩΡΑ 18:00 & 30/12 ΩΡΑ 11:30πμ\nΠαράσταση Κουκλοθέατρου “Ο Τσουρεκάκης” από τη Χριστίνα Σακελλαράκη και τον Δημήτρη Κουτάτζη \n– Πολιτιστικός Σύλλογος Λουτρακίου “Μελαγκάβι”\, στον θεατρικό χώρο του Συλλόγου (έναντι Θωδείου σταδίου) \n31/12 ΩΡΑ 20:00\nΠρωτοχρονιάτικη συναυλία «Vienna Tales»\, Παρουσίαση Αλέξης Κωστάλας – Φιλαρμονική Ορχήστρα Λουτρακίου\, στο Αλεξάνδρειο Συνεδριακό Κέντρο \n3/1/2019 ΩΡΑ 18:00\nΧριστουγεννιάτικη παράσταση “Η Καλλιστώ\, Η μάγισσα της Καλοσύνης” από το Ηλιοσκαλοπάτι – Αθέατο σε επιμέλεια Χριστίνας Σακελλαράκη – Πολιτιστικός Σύλλογος Λουτρακίου “Μελαγκάβι”\, στον θεατρικό χώρο του Συλλόγου (έναντι Θωδείου σταδίου) \nΔΡΑΣΕΙΣ ΣΤΗΝ ΠΕΡΑΧΩΡΑ\n14/12 ΩΡΑ 19:00\nΧριστουγεννιάτικο Τσάι Αγάπης “Γλυκά & Παραδοσιακά” – “EXPERIENCE ΠΕΡΑΧΩΡΑ\, στο Κέντρο “Πανόραμα” – Με τη στήριξη του Συλλόγου πασχόντων από μεσογειακή αναιμία Ν. Κορινθίας \n21/12 ΩΡΑ 18:00\nΧριστουγεννιάτικη εκδήλωση -Σύλλογος Γονέων & Κηδεμόνων Σχολείων Περαχώρας\, στο Δημοτικό Σχολείο Περαχώρας \n22/12 ΩΡΑ 18:00\nΧριστουγεννιάτικη Εκδήλωση με χορευτικά και θεατρικό\, στο Πνευματικό Κέντρο Περαχώρας \n– Η ομάδα του “EXPERIENCE ΠΕΡΑΧΩΡΑ” θα προσφέρει ζεστό κρασί & τσάι \n  \nΔΡΑΣΕΙΣ ΣΤΑ ΙΣΘΜΙΑ\n28/12 ΩΡΑ 18:30\nΧριστουγεννιάτικη γιορτή – Λαογραφικός Όμιλος Ίσθμιας\, στη Λέσχη Διώρυγας Κορίνθου \n  \n  \nΔΡΑΣΕΙΣ ΣΤΟΥΣ ΑΓΙΟΥΣ ΘΕΟΔΩΡΟΥΣ\n14/12 ΩΡΑ 17:00\nΆναμμα δέντρου στην Πλατεία Ευαγγελιστρίας \n20/12 ΩΡΑ 18:00\nΠαρακολούθηση της θεατρικής παράστασης “Μάγισσες της Σμύρνης” από τον Σύλλογο Γυναικών Αγίων Θεοδώρων \n21/12 ΩΡΑ 16:00 – 18:00\nΈκθεση κατασκευών decoupage- κόσμημα από το Δημιουργικό Εργαστήρι που λειτουργεί στα πλαίσια του Σεμιναρίου που υλοποιεί ο Δήμος\, στην αίθουσα του ΚΑΠΗ Αγίων Θεοδώρων \n22/12 ΩΡΑ 17:30\nΧριστουγεννιάτικη εκδήλωση με τη συμμετοχή Συλλόγων\, σχολείων και φορέων\, στην Πλατεία Ευαγγελιστρίας \n29/12 ΩΡΑ 10:30πμ\nΠαιδική θεατρική παράσταση στο ΚΑΠΗ Αγίων Θεοδώρων \nΩΡΑ 17:00\nΓιορτή της Ντρέδουρας από τον Σύλλογο Γυναικών Αγίων Θεοδώρων στην αίθουσα του Συλλόγου \n  \n  \n  \n  \n  \n\n\n					\n				\n
URL:https://loutraki.gov.gr/en/event/enas-dromos-christoygenna/
CATEGORIES:
ATTACH;FMTTYPE=image/jpeg:https://loutraki.gov.gr/wp-content/uploads/2018/12/enasdromosxristougena.jpg
END:VEVENT
END:VCALENDAR