BEGIN:VCALENDAR
VERSION:2.0
PRODID:-//Δήμος Λουτρακίου - ECPv4.6.12//NONSGML v1.0//EN
CALSCALE:GREGORIAN
METHOD:PUBLISH
X-WR-CALNAME:Δήμος Λουτρακίου
X-ORIGINAL-URL:https://loutraki.gov.gr/en
X-WR-CALDESC:Events for Δήμος Λουτρακίου
BEGIN:VEVENT
DTSTART;TZID=Europe/Athens:20220528T190000
DTEND;TZID=Europe/Athens:20220528T210000
DTSTAMP:20260423T142135
CREATED:20220525T101952Z
LAST-MODIFIED:20220525T101952Z
UID:25846-1653764400-1653771600@loutraki.gov.gr
SUMMARY:ΕΙΣΠΡΑΚΤΟΡΕΣ χαράς
DESCRIPTION:Το ΚΔΑΠ Αμπάριζα Λουτράκι μας προσκαλεί με χαρά\, όλες και όλους\, μικρούς και μεγάλους στις τελετές λήξης των Πρότυπων Κέντρων Δημιουργικής Απασχόλησης Παιδιών Αμπάριζα Κορίνθου Λουτρακίου by playSTREAM για μια τεράστια αγκαλιά!\n—-\nΛουτράκι | Σάββατο 28 Μαΐου | ώρα 19:00 | Πάρκο Δεξαμενής\nΚόρινθος | Κυριακή 29 Μαΐου | ώρα 11:00 | Mare West (πλησίον παιδικής χαράς)\n \n\n
URL:https://loutraki.gov.gr/en/event/eispraktores-charas/
LOCATION:Λουτράκι\, Κορινθία\, 20300\, Ελλάδα
GEO:37.9759033;22.9774589
CATEGORIES:Εκπαιδευτικές
ATTACH;FMTTYPE=image/jpeg:https://loutraki.gov.gr/wp-content/uploads/2022/05/Artboard-2-80.jpg
END:VEVENT
END:VCALENDAR