BEGIN:VCALENDAR
VERSION:2.0
PRODID:-//Δήμος Λουτρακίου - ECPv4.6.12//NONSGML v1.0//EN
CALSCALE:GREGORIAN
METHOD:PUBLISH
X-WR-CALNAME:Δήμος Λουτρακίου
X-ORIGINAL-URL:https://loutraki.gov.gr/en
X-WR-CALDESC:Events for Δήμος Λουτρακίου
BEGIN:VEVENT
DTSTART;TZID=Europe/Athens:20250903T210000
DTEND;TZID=Europe/Athens:20250903T230000
DTSTAMP:20260421T112251
CREATED:20250829T084044Z
LAST-MODIFIED:20250829T085457Z
UID:32248-1756933200-1756940400@loutraki.gov.gr
SUMMARY:Διήμερο Αφιέρωμα στη μνήμη του Τάσου Γεωργίου
DESCRIPTION:Στο θέατρο σκιών Λουτρακίου θα πραγματοποιηθούν δύο τελευταίες παραστάσεις αφιερωμένες στη μνήμη του Τάσου Γεωργίου την Τετάρτη 3 και την Πέμπτη 4 Σεπτεμβρίου 2025. Οι καραγκιοζοπαίχτες Χάρης Μπιλλίνης και Νικόλας Τζιβελέκης θα παρουσιάσουν έργα από το ρεπερτόριο του αείμνηστου Τάσου\, ενώ θα κάνουν εισαγωγικό πρόλογο για την καλλιτεχνική του δράση. \nΤο συγκεκριμένο θεατράκι είναι όχι μόνο σταθμός στην ιστορία του ελληνικού Καραγκιόζη\, αλλά και ορόσημο για την καριέρα του Τάσου Γεωργίου. Η μνήμη του θα τιμηθεί στο μέρος όπου έδρασε τα τελευταία χρόνια\, διασκέδασε μικρούς και μεγάλους κι ενέπνευσε νέους καραγκιοζοπαίχτες. \nΤα έσοδα των παραστάσεων θα δοθούν στην «Πράξη Αγάπης» για τη βοήθεια των θεραπειών του μικρού Χρήστου που πάσχει από βαρύ αυτισμό. \nhttps://praxiagapis.gr/campaign/support-christos823/ \nΚαλούνται μικροί και μεγάλοι να τιμήσουν την εκδήλωση με την παρουσία τους. \nΤετάρτη 3 Σεπτεμβρίου «Ο Καραγκιόζης και ο λήσταρχος Ντελής» \nπαίζει ο Νικόλας Τζιβελέκης \nΠέμπτη 4 Σεπτεμβρίου «Η αρπαγή από το χαρέμι» \nπαίζει ο Χάρης Μπιλλίνης \nΕίσοδος 6 ευρώ \nΏρα έναρξης 21:00 \nΘέατρο Σκιών Λουτρακίου\, Αλκυονιδών 2\, Λουτράκι \nΤηλ. Επικοινωνίας: 6942235502 \n
URL:https://loutraki.gov.gr/en/event/diimero-afieroma-sti-mnimi-toy-tasoy-georgioy/2025-09-03/
LOCATION:Αλκυονίδων 2\, Λουτράκι
CATEGORIES:
ATTACH;FMTTYPE=image/jpeg:https://loutraki.gov.gr/wp-content/uploads/2025/08/Αφίσα-Αφιέρωμα.jpeg
END:VEVENT
END:VCALENDAR