BEGIN:VCALENDAR
VERSION:2.0
PRODID:-//Δήμος Λουτρακίου - ECPv4.6.12//NONSGML v1.0//EN
CALSCALE:GREGORIAN
METHOD:PUBLISH
X-WR-CALNAME:Δήμος Λουτρακίου
X-ORIGINAL-URL:https://loutraki.gov.gr/en
X-WR-CALDESC:Events for Δήμος Λουτρακίου
BEGIN:VEVENT
DTSTART;TZID=Europe/Athens:20220331T170000
DTEND;TZID=Europe/Athens:20220331T190000
DTSTAMP:20260423T171230
CREATED:20220329T082051Z
LAST-MODIFIED:20220329T082051Z
UID:25474-1648746000-1648753200@loutraki.gov.gr
SUMMARY:«Διαχείριση συμπεριφοράς μαθητών σε σχολικό και οικογενειακό πλαίσιο»
DESCRIPTION:Το 1ο Δημοτικό Σχολείο Αγίων Θεοδώρων σας προσκαλεί στην 2η επιμορφωτική συνάντηση με θέμα : \n«Διαχείριση συμπεριφοράς μαθητών σε σχολικό και οικογενειακό πλαίσιο» \nαπό την Ψυχολόγο (M.Sc) Στάμου Δήμητρα. \nΤο σεμινάριο απευθύνεται σε γονείς και εκπαιδευτικούς και θα πραγματοποιηθεί εξ αποστάσεως την Πέμπτη 31 Μαρτίου και ώρα 17:00-19:00. \nΠαρατίθενται μερικά ερωτήματα που απασχολούν γονείς και εκπαιδευτικούς και θα τεθούν προς συζήτηση: \n· Πώς να διαχειριστώ τις συμπεριφορές του παιδιού; Πώς πρέπει να συμπεριφερθώ αλλά και τι πρέπει να αποφύγω; \n· Πώς να βελτιώσω την επικοινωνία μου με το παιδί; \n· Πώς να ανταποκριθώ στις απαιτήσεις του χωρίς να διαταράξω τις σχέσεις μου μαζί του; \n· Πώς να αποφύγω το διαπληκτισμό μαζί του; \n· Είναι σωστό και ασφαλές να τιμωρώ; \n· Όταν οριοθετώ\, μέχρι σε ποιο σημείο θα πρέπει να φτάσω; \nΘα ακολουθήσει συζήτηση\, θα διατυπωθούν ερωτήματα και θα αποσαφηνιστούν πρακτικές αντιμετώπισης ανεπιθύμητων συμπεριφορών. \nΗ διαδικτυακή σύνδεση σας θα πραγματοποιηθεί μέσω Webex στη διαδικτυακή αίθουσα της δασκάλας ΤΠΕ του σχολείου\, Μαρίας Γουνά-Γουναροπούλου με τον ακόλουθο σύνδεσμο: https://minedu-primary.webex.com/meet/margouna. \nΗ Διευθύντρια του 1ου Δημοτικού Σχολείου Αγίων Θεοδώρων \nΘεώνη Μαυροματίδου \n  \nΟ Σύλλογος Διδασκόντων \n
URL:https://loutraki.gov.gr/en/event/diacheirisi-symperiforas-mathiton-se-scholiko-kai-oikogeneiako-plaisio/
CATEGORIES:Εκπαιδευτικές
ATTACH;FMTTYPE=image/jpeg:https://loutraki.gov.gr/wp-content/uploads/2022/03/αρχείο-λήψης.jpg
ORGANIZER;CN="1%CE%BF%20%CE%94%CE%B7%CE%BC%CE%BF%CF%84%CE%B9%CE%BA%CF%8C%20%CE%A3%CF%87%CE%BF%CE%BB%CE%B5%CE%AF%CE%BF%20%CE%91%CE%B3%CE%AF%CF%89%CE%BD%20%CE%98%CE%B5%CE%BF%CE%B4%CF%8E%CF%81%CF%89%CE%BD":MAILTO:mail@dim-ag-theod.kor.sch.gr
END:VEVENT
END:VCALENDAR