BEGIN:VCALENDAR
VERSION:2.0
PRODID:-//Δήμος Λουτρακίου - ECPv4.6.12//NONSGML v1.0//EN
CALSCALE:GREGORIAN
METHOD:PUBLISH
X-WR-CALNAME:Δήμος Λουτρακίου
X-ORIGINAL-URL:https://loutraki.gov.gr/en
X-WR-CALDESC:Events for Δήμος Λουτρακίου
BEGIN:VEVENT
DTSTART;TZID=Europe/Athens:20230701T080000
DTEND;TZID=Europe/Athens:20230707T170000
DTSTAMP:20260423T040157
CREATED:20230420T101702Z
LAST-MODIFIED:20230420T105852Z
UID:27679-1688198400-1688749200@loutraki.gov.gr
SUMMARY:Cosmogym Summer 4all 2023
DESCRIPTION:Cosmogym Summer 4all 2023 | 1 με 7 Ιουλίου 2023 η καρδιά του Cosmogym θα κτυπά στο Λουτράκι! \nΤο Cosmogym είναι ένα γεγονός κινητικής-καλλιτεχνικής έκφρασης ομάδων ασκουμένων\, κάθε ηλικίας\, επιπέδου και κοινωνικής προέλευσης. Είναι ένα μη αγωνιστικό γεγονός που ο μοναδικός στόχος των συμμετεχόντων είναι η συμμετοχή και η αγάπη τους για τον Αθλητισμό. \nΤο Cosmogym Summer 4all είναι ένα μη αγωνιστικό γεγονός στον οποίο ο βασικός κανόνας του είναι το ότι «όλοι οι συμμετέχοντες βραβεύονται». \nΕνόργανη\, ρυθμική\, ακροβατική\, αεροβική\, τραμπολίνο\, μοντέρνος και κλασσικός χορός\, τζαζ\, φολκλόρ\, street dance\, hip-hop με συνοδεία μουσικής ή όχι\, με συνήθη ή ασυνήθιστα όργανα και ότι άλλο είδος κινητικής μορφής και καλλιτεχνικής έκφρασης υπάρχει είναι τα στοιχεία που συνθέτουν τα προγράμματα που συμμετέχουν στο Cosmogym. \nΟμάδες αθλητών και όχι μόνο\, από συλλόγους\, σχολεία\, πανεπιστήμια\, δήμους κτλ. από όλο τον κόσμο είναι καλοδεχούμενοι να συμμετέχουν. \n\nΧΩΡΟΙ ΔΙΕΞΑΓΩΓΗΣ \nΤο Cosmogym 2023 θα διεξαχθεί φέτος στο «Πάρκο Παραλίας» Λουτρακίου Κορινθίας\, στις εγκαταστάσεις του Sport Camp στο Λουτράκι καθώς και στις εγκαταστάσεις του Ypanema Club στη Λίμνη Βουλιαγμένης. Θα είναι σε εξωτερικό χώρο\, προσωρινής διαμόρφωσης για τις ανάγκες της διεξαγωγής της διοργάνωσης. \nΗ διεύθυνση  των χώρων είναι: \n\nΠάρκο Παραλίας – Λουτράκι\, Κορινθίας TK 20300\nSport Camp – Περιοχή Κατουνίστρα – Λουτράκι\, Κορινθίας ΤΚ 20300\nYpanema Club – Λίμνη Βουλιαγμένης\n\n\nΓΕΝΙΚΟ ΠΡΟΓΡΑΜΜΑ ΔΙΟΡΓΑΝΩΣΗΣ \nGymnastics for all event (Πάρκο Παραλίας Λουτρακίου)\nΣΑΒΒΑΤΟ 1 Ιουλίου 1η Ζώνη Παρουσίασης προγραμμάτων 19:30\nΚΥΡΙΑΚΗ 2 Ιουλίου Αφίξεις ξένων αποστολών\nΚΥΡΙΑΚΗ 2 Ιουλίου 2η Ζώνη Παρουσίασης προγραμμάτων 19:30\nΔΕΥΤΕΡΑ 3 Ιουλίου 3η Ζώνη Παρουσίασης προγραμμάτων 19:30\nΤΡΙΤΗ 4 Ιουλίου 4η Ζώνη Παρουσίασης προγραμμάτων 19:30\nΤΕΤΑΡΤΗ 5 Ιουλίου 5η Ζώνη Παρουσίασης προγραμμάτων 19:30\nΠΕΜΠΤΗ 6 Ιουλίου 6η Ζώνη Παρουσίασης προγραμμάτων 19:30\nΠΑΡΑΣΚΕΥΗ 7 Ιουλίου Αναχωρήσεις αποστολών \nSide Events (Ypanema Club\, Sport Camp\, Πάρκο Παραλίας)\nΚΥΡΙΑΚΗ 2 Ιουλίου Workshops – Πάρκο Παραλίας Λουτρακίου\, Flash Mob Event 19:00\nΔΕΥΤΕΡΑ 3 Ιουλίου Beach Volley  – Ypanema Club\, 11:00 (Αναχώρηση λεωφορείων στις 10:00)\nΔΕΥΤΕΡΑ 3 Ιουλίου Workshops – Πάρκο Παραλίας Λουτρακίου 09:30  +  10:30\nΤΡΙΤΗ 4 Ιουλίου Workshops – Πάρκο Παραλίας Λουτρακίου 09:30  +  10:30\nΤΡΙΤΗ 4 Ιουλίου Social event – Party 4all – Loutraki beach club 23:00\nΤΕΤΑΡΤΗ 5 Ιουλίου Workshops – Πάρκο Παραλίας Λουτρακίου 09:30  +  10:30\nΤΕΤΑΡΤΗ 5 Ιουλίου Εκδρομές ομάδων\, Αργολίδα\, Αρχαία Κόρινθος (έξτρα χρέωση για χρήση πούλμαν της διοργάνωσης)\nΤΕΤΑΡΤΗ 5 Ιουλίου Social Event – Party 4all – Loutraki beach club 23:00\nΠΕΜΠΤΗ 6 Ιουλίου Workshops – Πάρκο Παραλίας Λουτρακίου\, Flash Mob Event 19:00 \nΤο ακριβές πρόγραμμα της παρουσίασης της ομάδας σας\, θα γίνει γνωστό 10 ημέρες πριν την έναρξη\, στο διαδίκτυο στην σελίδα    www.cosmogym.gr \nΟι ώρες έναρξης των ζωνών καθώς και ο αριθμός\, το είδος των workshops\, social events κτλ δύναται να αλλαχθούν ανάλογα με τις συμμετοχές χωρίς προειδοποίηση. \n\nΠροκήρυξη Αγώνων εδώ \n\nCosmogym Summer 4all – Flashmob 2023 | official video | 07/04/2023\n \n\n\n\n\n\n\n\nΥπό την Αιγίδα \n\n\n\n\n\n\n\n\n\n \n\n\n\n\n\n\n\n\n\n\n\n\n\n\n\n\n\n\n\n\n\nΈγκριση\, Διοργανωτής\, Συνεργάτης \n\n\n\n\n\n\n\n\n\n\n\n\n\n\n\n\n\n\n\n\n\n\n\n\n\n\n\n\n\n\n\nΧρυσοί Χορηγοί \n\n\n\n\n\n\n\n\n\n\n\n\n\n\n\n\n\n\n\n\n\n\n\n\n\n\n\n\n\n\n\nΥποστηρικτές \n \n\n\n\n\n\n\n\n\n\n \n\n\n\n\n\n\n\n\n\n\n\n\n\n\n\n\n\n\n\n\n\n\n\n\n \n\n\n\n\n
URL:https://loutraki.gov.gr/en/event/cosmogym-summer-4all-2023/
LOCATION:Παραλιακό Πάρκο\, ΛΟΥΤΡΑΚΙ\, Κορινθία\, 20300\, Ελλάδα
GEO:37.9792631;22.9735862
X-APPLE-STRUCTURED-LOCATION;VALUE=URI;X-ADDRESS=Παραλιακό Πάρκο ΛΟΥΤΡΑΚΙ Κορινθία 20300 Ελλάδα;X-APPLE-RADIUS=500;X-TITLE=Παραλιακό Πάρκο:geo:22.9735862,37.9792631
CATEGORIES:Εκπαιδευτικές,Αθλητικές
ATTACH;FMTTYPE=image/jpeg:https://loutraki.gov.gr/wp-content/uploads/2023/04/COSMOGYM-2023.jpg
END:VEVENT
END:VCALENDAR