BEGIN:VCALENDAR
VERSION:2.0
PRODID:-//Δήμος Λουτρακίου - ECPv4.6.12//NONSGML v1.0//EN
CALSCALE:GREGORIAN
METHOD:PUBLISH
X-WR-CALNAME:Δήμος Λουτρακίου
X-ORIGINAL-URL:https://loutraki.gov.gr/en
X-WR-CALDESC:Events for Δήμος Λουτρακίου
BEGIN:VEVENT
DTSTART;TZID=Europe/Athens:20231227T190000
DTEND;TZID=Europe/Athens:20231227T210000
DTSTAMP:20260421T124234
CREATED:20231221T112214Z
LAST-MODIFIED:20231221T112214Z
UID:28861-1703703600-1703710800@loutraki.gov.gr
SUMMARY:Χριστουγεννιάτικο Γλέντι
DESCRIPTION: \n
URL:https://loutraki.gov.gr/en/event/christoygenniatiko-glenti/
LOCATION:Ελ. Βενιζέλου και Περιάνδρου\, Λουτράκι\, Κορινθίας\, 20300\, Ελλάδα
GEO:37.9755626;22.9774609
X-APPLE-STRUCTURED-LOCATION;VALUE=URI;X-ADDRESS=Ελ. Βενιζέλου και Περιάνδρου Λουτράκι Κορινθίας 20300 Ελλάδα;X-APPLE-RADIUS=500;X-TITLE=Ελ. Βενιζέλου και Περιάνδρου:geo:22.9774609,37.9755626
CATEGORIES:
ATTACH;FMTTYPE=image/jpeg:https://loutraki.gov.gr/wp-content/uploads/2023/12/ΚΙΟΣΚΕΡΟΓΛΟΥ.jpg
END:VEVENT
END:VCALENDAR