BEGIN:VCALENDAR
VERSION:2.0
PRODID:-//Δήμος Λουτρακίου - ECPv4.6.12//NONSGML v1.0//EN
CALSCALE:GREGORIAN
METHOD:PUBLISH
X-WR-CALNAME:Δήμος Λουτρακίου
X-ORIGINAL-URL:https://loutraki.gov.gr/en
X-WR-CALDESC:Events for Δήμος Λουτρακίου
BEGIN:VEVENT
DTSTART;TZID=Europe/Athens:20250118T100000
DTEND;TZID=Europe/Athens:20250118T130000
DTSTAMP:20260422T020210
CREATED:20250116T120244Z
LAST-MODIFIED:20250116T120244Z
UID:31123-1737194400-1737205200@loutraki.gov.gr
SUMMARY:Αθλητική Καρδιολογία - Η Καρδιά στον Ρυθμό του Αθλητισμού
DESCRIPTION:\nΟ “Αθλητικός Όμιλος Λουτράκι” και το “Homo Educandus Αγωγή” σας προσκαλούν στην ημερίδα που συνδιοργανώνουν με θέμα:\n\n\n“Αθλητική Καρδιολογία – Η Καρδιά στον Ρυθμό του Αθλητισμού”.\n\n\nΚεντρικός ομιλητής της ημερίδας θα είναι ο διακεκριμένος επεμβατικός καρδιολόγος Σπύρος Παπαϊωάννου Διδάκτωρ Α.Π.Θ. – Δ/ντης Β’ Καρδιολογικής Κλινικής Ναυτικού Νοσοκομείου Αθηνών\, ο οποίος θα μας ενημερώσει για:\n Την πρόληψη καρδιαγγειακών προβλημάτων στον αθλητισμό.\n Τη σημασία του προληπτικού ελέγχου για αθλητές κάθε ηλικίας.\n Την ενίσχυση της φυσικής κατάστασης με ασφάλεια.\n\n\nΗ ημερίδα απευθύνεται σε γονείς\, μαθητές\, αθλητές\, προπονητές και όσους ενδιαφέρονται για τη σχέση της άσκησης με την υγεία της καρδιάς.\n\n \nΗ εκδήλωση θα πραγματοποιηθεί:\nτο Σάββατο 18 Ιανουαρίου 2025 \, από τις 10:00 έως τις 13:00.\nστο Αλεξάνδρειο Συνεδριακό Κέντρο Λουτρακίου.\n \nΗ είσοδος είναι ελεύθερη.\n\n\n\nΣας περιμένουμε!\n\n
URL:https://loutraki.gov.gr/en/event/athlitiki-kardiologia-i-kardia-ston-rythmo-toy-athlitismoy/
LOCATION:Αλεξάνδρειο Συνεδριακό Κέντρο\, Λουτράκι\, Κορινθία\, 20300\, Ελλάδα
GEO:37.931569;22.991929
X-APPLE-STRUCTURED-LOCATION;VALUE=URI;X-ADDRESS=Αλεξάνδρειο Συνεδριακό Κέντρο Λουτράκι Κορινθία 20300 Ελλάδα;X-APPLE-RADIUS=500;X-TITLE=Αλεξάνδρειο Συνεδριακό Κέντρο:geo:22.991929,37.931569
CATEGORIES:Αθλητικές,Υγείας
ATTACH;FMTTYPE=image/jpeg:https://loutraki.gov.gr/wp-content/uploads/2025/01/POSTER.jpg
END:VEVENT
END:VCALENDAR