BEGIN:VCALENDAR
VERSION:2.0
PRODID:-//Δήμος Λουτρακίου - ECPv4.6.12//NONSGML v1.0//EN
CALSCALE:GREGORIAN
METHOD:PUBLISH
X-WR-CALNAME:Δήμος Λουτρακίου
X-ORIGINAL-URL:https://loutraki.gov.gr/en
X-WR-CALDESC:Events for Δήμος Λουτρακίου
BEGIN:VEVENT
DTSTART;TZID=Europe/Athens:20241011T200000
DTEND;TZID=Europe/Athens:20241011T220000
DTSTAMP:20260422T084348
CREATED:20241009T090814Z
LAST-MODIFIED:20241009T100555Z
UID:30473-1728676800-1728684000@loutraki.gov.gr
SUMMARY:Άλλα είναι εκείνα που αγαπώ
DESCRIPTION:Μια παράσταση με μονολόγους και κατάθεση ψυχής\, με ποίηση και κείμενα που επέλεξαν οι: Καίτη Σταματοπούλου\, Αντώνης Γεωργακόπουλος\, Μαίρη Καλογήρου\, Παναγιώτης Λιούντρης\, Μαρία Σταυροπούλου\, Άρης Σταύρου\, όπου και θα τους δούμε με αυτή την σειρά εμφάνισης. \nΣκηνοθετεί και συμμετέχει ο ηθοποιός-σκηνοθέτης Άρης Σταύρου. \nΕπί σκηνής συμμετέχουν\, επίσης\, οι μουσικοί Γιώργος Λυκίδης και Γιάννης Σταύρου\, που δίνουν την δική τους νότα στην παράσταση. \nΑκούγεται η φωνή της Χαράς Τσουγκριάνη. \nΠότε: Παρασκευή 11 Οκτωβρίου 2024\nΠου: Θέατρο «Παντελής Ζερβός»\, Πάρκο Δεξαμενής Λουτρακίου\nΏρα: 20.15\nΕίσοδος: 5 ευρώ\nΠληροφορίες/Κρατήσεις: 6942499461 – 6943506266 \nΗ παράσταση γίνεται υπό την Αιγίδα του δήμου Λουτρακίου Περαχώρας – Αγίων Θεοδώρων \n
URL:https://loutraki.gov.gr/en/event/alla-einai-ekeina-poy-agapo/
LOCATION:Πάρκο Δεξαμενής\, Λουτράκι\, 20300\, Ελλάδα
GEO:37.9727548;22.9858004
X-APPLE-STRUCTURED-LOCATION;VALUE=URI;X-ADDRESS=Πάρκο Δεξαμενής Λουτράκι 20300 Ελλάδα;X-APPLE-RADIUS=500;X-TITLE=Πάρκο Δεξαμενής:geo:22.9858004,37.9727548
CATEGORIES:
ATTACH;FMTTYPE=image/jpeg:https://loutraki.gov.gr/wp-content/uploads/2024/10/εικόνα_Viber_2024-10-07_10-26-52-417.jpg
END:VEVENT
END:VCALENDAR