BEGIN:VCALENDAR
VERSION:2.0
PRODID:-//Δήμος Λουτρακίου - ECPv4.6.12//NONSGML v1.0//EN
CALSCALE:GREGORIAN
METHOD:PUBLISH
X-WR-CALNAME:Δήμος Λουτρακίου
X-ORIGINAL-URL:https://loutraki.gov.gr/en
X-WR-CALDESC:Events for Δήμος Λουτρακίου
BEGIN:VEVENT
DTSTART;TZID=Europe/Athens:20190615T100000
DTEND;TZID=Europe/Athens:20190615T130000
DTSTAMP:20260424T183300
CREATED:20190610T095050Z
LAST-MODIFIED:20190618T095250Z
UID:17848-1560592800-1560603600@loutraki.gov.gr
SUMMARY:5ος ποδηλατικός γύρος Αγίων Θεοδώρων
DESCRIPTION:Ο Σύλλογος Γονέων και Κηδεμόνων του 2ου Δημοτικού Σχολείου Αγίων Θεοδώρων\, με αφορμή την Παγκόσμια Ημέρα Περιβάλλοντος\, διοργανώνει τον 5ο ποδηλατικό γύρο των Αγίων Θεοδώρων\, το Σάββατο 15 Ιουνίου και ώρα 10:00. \n
URL:https://loutraki.gov.gr/en/event/5os-podilatikos-gyros-agion-theodoron/
CATEGORIES:Αθλητικές
ATTACH;FMTTYPE=image/jpeg:https://loutraki.gov.gr/wp-content/uploads/2019/06/62245498_2081984491924911_1694217014605774848_n.jpg
END:VEVENT
END:VCALENDAR