BEGIN:VCALENDAR
VERSION:2.0
PRODID:-//Δήμος Λουτρακίου - ECPv4.6.12//NONSGML v1.0//EN
CALSCALE:GREGORIAN
METHOD:PUBLISH
X-WR-CALNAME:Δήμος Λουτρακίου
X-ORIGINAL-URL:https://loutraki.gov.gr/en
X-WR-CALDESC:Events for Δήμος Λουτρακίου
BEGIN:VEVENT
DTSTART;TZID=Europe/Athens:20190605T090000
DTEND;TZID=Europe/Athens:20190605T123000
DTSTAMP:20260424T200417
CREATED:20190531T095659Z
LAST-MODIFIED:20190531T095659Z
UID:17816-1559725200-1559737800@loutraki.gov.gr
SUMMARY:42η εθελοντική αιμοδοσία
DESCRIPTION:Ο Δήμος Λουτρακίου – Περαχώρας – Αγίων Θεοδώρων σε συνεργασία με το Σύλλογο Εργαζομένων του Δήμου\, θα πραγματοποιήσουν εθελοντική αιμοδοσία την Τετάρτη 5 Ιουνίου 2019\, στο Κέντρο Υγείας Λουτρακίου\, από τις 09.00π.μ. μέχρι τις 12.30μ.μ. \nΕίναι η 42η εθελοντική αιμοδοσία και πραγματοποιείται στo πλαίσιo της δημιουργίας παρακαταθήκης αίματος για την αντιμετώπιση των αναγκών των κατοίκων αλλά και της ανάπτυξης του πνεύματος αλληλεγγύης και εθελοντικής προσφοράς. \nΔώσε αίμα\, χάρισε ζωή. \n  \n
URL:https://loutraki.gov.gr/en/event/42i-ethelontiki-aimodosia/
LOCATION:Τέρμα Καραϊσκάκη & Περικλέους\, ΛΟΥΤΡΑΚΙ\, Κορινθίας\, 20300\, Ελλάδα
GEO:37.972405;22.9816377
X-APPLE-STRUCTURED-LOCATION;VALUE=URI;X-ADDRESS=Τέρμα Καραϊσκάκη & Περικλέους ΛΟΥΤΡΑΚΙ Κορινθίας 20300 Ελλάδα;X-APPLE-RADIUS=500;X-TITLE=Τέρμα Καραϊσκάκη & Περικλέους:geo:22.9816377,37.972405
CATEGORIES:Υγείας
ATTACH;FMTTYPE=image/jpeg:https://loutraki.gov.gr/wp-content/uploads/2019/05/AFISA_AIMODOSIA.jpg
END:VEVENT
END:VCALENDAR