BEGIN:VCALENDAR
VERSION:2.0
PRODID:-//Δήμος Λουτρακίου - ECPv4.6.12//NONSGML v1.0//EN
CALSCALE:GREGORIAN
METHOD:PUBLISH
X-WR-CALNAME:Δήμος Λουτρακίου
X-ORIGINAL-URL:https://loutraki.gov.gr/en
X-WR-CALDESC:Events for Δήμος Λουτρακίου
BEGIN:VEVENT
DTSTART;TZID=Europe/Athens:20181203T160000
DTEND;TZID=Europe/Athens:20181203T190000
DTSTAMP:20260425T032618
CREATED:20181130T072314Z
LAST-MODIFIED:20181130T072314Z
UID:17136-1543852800-1543863600@loutraki.gov.gr
SUMMARY:41η Αιμοδοσία
DESCRIPTION:Σας προσκαλούμε να συμμετέχετε στην 41η Αιμοδοσία του Δήμος Λουτρακίου – Περαχώρας – Αγίων Θεοδώρων στο Κέντρο Υγείας Λουτρακίου από τις 4.00 μ.μ. έως τις 7.00 μ.μ.\nΗ αιμοδοσία είναι μήνυμα ζωής! \n
URL:https://loutraki.gov.gr/en/event/41i-aimodosia/
LOCATION:Τέρμα Καραϊσκάκη & Περικλέους\, ΛΟΥΤΡΑΚΙ\, Κορινθίας\, 20300\, Ελλάδα
GEO:37.972405;22.9816377
X-APPLE-STRUCTURED-LOCATION;VALUE=URI;X-ADDRESS=Τέρμα Καραϊσκάκη & Περικλέους ΛΟΥΤΡΑΚΙ Κορινθίας 20300 Ελλάδα;X-APPLE-RADIUS=500;X-TITLE=Τέρμα Καραϊσκάκη & Περικλέους:geo:22.9816377,37.972405
CATEGORIES:Υγείας
ATTACH;FMTTYPE=image/jpeg:https://loutraki.gov.gr/wp-content/uploads/2018/11/ΑΙΜΟΔΟΣΙΑ-3-12-2018-ΠΡΟΣΚΛΗΣΗ.jpg
END:VEVENT
END:VCALENDAR