BEGIN:VCALENDAR
VERSION:2.0
PRODID:-//Δήμος Λουτρακίου - ECPv4.6.12//NONSGML v1.0//EN
CALSCALE:GREGORIAN
METHOD:PUBLISH
X-WR-CALNAME:Δήμος Λουτρακίου
X-ORIGINAL-URL:https://loutraki.gov.gr/en
X-WR-CALDESC:Events for Δήμος Λουτρακίου
BEGIN:VEVENT
DTSTART;TZID=Europe/Athens:20260425T080000
DTEND;TZID=Europe/Athens:20260426T170000
DTSTAMP:20260424T130933
CREATED:20260424T080155Z
LAST-MODIFIED:20260424T082514Z
UID:33135-1777104000-1777222800@loutraki.gov.gr
SUMMARY:3ο Διεθνές Διασυλλογικό Τουρνουά Αλιείας από Ακτή "Λουτράκι 2026"
DESCRIPTION:Ο Αθλητικός Ναυτικός Όμιλος Βραχατίου (ΑΝΟΒ)\, με την αιγίδα του Δήμου Λουτρακίου – Περαχώρας – Αγίων Θεοδώρων\, διοργανώνει για ακόμη μία χρονιά το επιτυχημένο διεθνές τουρνουά αλιείας! \n📊 Ρεκόρ συμμετοχών για το 2026:\n75 αθλητές συνολικά\n🌍 41 αθλητές από το εξωτερικό (κυρίως από Κύπρο) \n📍 Τοποθεσία: Παραλία Λουτρακίου \n🗓 Πρόγραμμα Αγώνων: \nΣάββατο 25 Απριλίου\n⏰ 09:00 – Έναρξη Αγώνα 1\n⏰ 13:00 – Λήξη Αγώνα 1\n⏰ 17:00 – 20:00 Ελεύθερο Ψάρεμα \nΚυριακή 26 Απριλίου\n⏰ 09:00 – Έναρξη Αγώνα 2\n⏰ 13:00 – Λήξη Αγώνα 2\n⏰ 14:30 – Ανακοίνωση αποτελεσμάτων\n⏰ 15:00 – Τελετή λήξης & απονομές \n👤 Αλυτάρχης: Κώστας Καστρινός \n📢 Σας περιμένουμε όλους να ζήσουμε μαζί ένα μοναδικό αθλητικό διήμερο δίπλα στη θάλασσα! \n#FishingTournament #Loutraki #ANOV #SeaSports #GreeceEvents \n
URL:https://loutraki.gov.gr/en/event/3o-diethnes-diasyllogiko-toyrnoya-alieias-apo-akti-loytraki-2026/
LOCATION:Λουτράκι\, Λουτράκι\, 20300
GEO:37.9759033;22.9774589
X-APPLE-STRUCTURED-LOCATION;VALUE=URI;X-ADDRESS=Λουτράκι Λουτράκι 20300;X-APPLE-RADIUS=500;X-TITLE=Λουτράκι:geo:22.9774589,37.9759033
CATEGORIES:Αθλητικές
ATTACH;FMTTYPE=image/png:https://loutraki.gov.gr/wp-content/uploads/2026/04/Blue-and-Grey-Modern-Fishing-Tournament-Flyer.png
END:VEVENT
END:VCALENDAR