BEGIN:VCALENDAR
VERSION:2.0
PRODID:-//Δήμος Λουτρακίου - ECPv4.6.12//NONSGML v1.0//EN
CALSCALE:GREGORIAN
METHOD:PUBLISH
X-WR-CALNAME:Δήμος Λουτρακίου
X-ORIGINAL-URL:https://loutraki.gov.gr/en
X-WR-CALDESC:Events for Δήμος Λουτρακίου
BEGIN:VEVENT
DTSTART;TZID=Europe/Athens:20230528T080000
DTEND;TZID=Europe/Athens:20230528T210000
DTSTAMP:20260422T004046
CREATED:20230504T080002Z
LAST-MODIFIED:20230522T114040Z
UID:27787-1685260800-1685307600@loutraki.gov.gr
SUMMARY:38α ΘΩΔΕΙΑ 2023
DESCRIPTION:Προκήρυξη Αγώνων \nΟ Α.Ο. Ποσειδών Λουτρακίου και η ΕΑΣ ΣΕΓΑΣ Περιφέρειας Πελοποννήσου σε συνεργασία με τον Δήμο  Λουτρακίου – Περαχώρας – Αγίων Θεοδώρων προκηρύσσουν αγώνες στίβου με την επωνυμία «38α ΘΩΔΕΙΑ 2023» \, οι οποίοι θα διεξαχθούν σύμφωνα με τους παρακάτω όρους: \n\nΗμερομηνία: Κυριακή  28 Μάϊου  2023\nΤόπος τέλεσης: Θώδειο Δημοτικό Στάδιο Λουτρακίου\nΑγωνίσματα:\n\n\n\n\n\nΚΑΤΗΓΟΡΙΑ \n\n\nΑΓΩΝΙΣΜΑ \n\n\n\n\nΚΟΡΙΤΣΙΑ Κ16 \n\n\n80μ.\, 1000μ\, Τετραπλούν\, Σφαίρα\, 4 Χ 80μ\, \n Σφυροβολία – Δίσκος (ΔΑΚ ΤΡΙΠΟΛΗΣ). \n\n\n\n\nΑΓΟΡΙΑ Κ16 \n\n\n80μ.\, 1000μ\,300Εμπ\, 4 χ 80μ\,   \nΣφυροβολία\, Δίσκος (ΔΑΚ ΤΡΙΠΟΛΗΣ) \n\n\n\n\nΑΝΔΡΩΝ Κ18 \n\n\nΎψος\,  Ακόντιο\,  400Εμπ\, Σφυροβολία (ΔΑΚ ΤΡΙΠΟΛΗΣ) \n\n\n\n\nΓΥΝΑΙΚΩΝ Κ18 \n\n\n Ύψος\, Σφαίρα\,  Σφυροβολία (ΔΑΚ ΤΡΙΠΟΛΗΣ) \n\n\n\n\nΓυναικών \n\n\n100μ.\, 200μ.\, 400μ.\,400Εμπ\, 1500μ\, Ύψος\, Μήκος \, Ακόντιο\, 4 Χ 100μ.\, Σφυροβολία –  Δίσκος (ΔΑΚ ΤΡΙΠΟΛΗΣ) \n\n\n\n\nΑνδρών \n\n\n100μ.\, 200μ\, 400μ\, 4 Χ 100μ.\, Σφαίρα\, Μήκος\, Ύψος\, Ακόντιο \, Σφυροβολία –  Δίσκος (ΔΑΚ ΤΡΙΠΟΛΗΣ) \n\n\n\n\n  \n\nΔικαίωμα συμμετοχής:\n\nΣτους αγώνες δικαίωμα συμμετοχής έχουν οι αθλητές\, – τριες που ανήκουν στη δύναμη των σωματείων- μελών του ΣΕΓΑΣ. \n\nΚάθε αθλητής-τρια μπορεί να δηλωθεί και να συμμετάσχει στα αγωνίσματα\, όπως ακριβώς προβλέπεται από τις τεχνικές διατάξεις του ΣΕΓΑΣ\, για τα διασυλλογικά Πρωταθλήματα 2022 – 2023 της κατηγορίας τους.\nΟι δηλώσεις συμμετοχής των αθλητών\, –τριών θα γίνονται μόνον ηλεκτρονικά έως και Πέμπτη 25 Μάϊου 2023– e-mail : vpahatouridis@hotmail.com. Οι αθλητές και οι αθλήτριες πρέπει να δηλωθούν 60 λεπτά πριν την τέλεση του αγωνίσματος στη Γραμματεία των αγώνων\, με αυτοπρόσωπη παρουσία προσκομίζοντας απαραίτητα το δελτίο αθλητικής ιδιότητας και την κάρτα υγείας.\nΗ μετακίνηση των συμμετεχόντων αθλητών στα Θώδεια θα είναι δωρεάν (από Τρίπολη\, Ναύπλιο\, Πάτρα\, Πύργος)\, σε συνεννόηση με τους διοργανωτές και τους τεχνικούς συμβούλους των Ε.Α.Σ. Παρακαλούνται τα ενδιαφερόμενα αθλητικά σωματεία να δηλώσουν τον αριθμό συμμετοχών\, όσον αφορά την μετακίνηση των αθλητών\, έως και την Τετάρτη 24 Μάϊου 2023 και ώρα 14:00 (οι θέσεις θα δοθούν κατά σειρά προτεραιότητας στο e-mail:vpahatouridis@hotmail.com & Τηλ. Επικοινωνίας : 6944850422).\nΚαμία δήλωση συμμετοχής δεν θα γίνει δεκτή μετά από την παραπάνω ημερομηνία και καμία συμμετοχή δεν θεωρείται δεδομένη με μόνη τη δήλωσή της.\n\n  \n5.Πιστοποίηση της Υγείας: \nΜε την  φροντίδα και την ευθύνη των συλλόγων οι αθλητές –τριες θα πρέπει να έχουν εξετασθεί ιατρικώς πριν τους αγώνες. Η πιστοποίηση της υγείας των αθλητών και αθλητριών είναι υποχρεωτική και αποτελεί προϋπόθεση για την συμμετοχή τους στους αγώνες. \n Οι υπεύθυνοί της αίθουσας κλίσης  θα καταχωρούν στα πινάκια μόνο τους αθλητές – αθλήτριές των οποίων η κάρτα υγείας είναι θεωρημένη σύμφωνα με την ισχύουσα νομοθεσίας. \nΣΕ ΔΙΑΦΟΡΕΤΙΚΗ ΠΕΡΙΠΤΩΣΗ ΔΕΝ ΘΑ ΤΟΥΣ ΕΠΙΤΡΕΠΕΤΑΙ ΝΑ ΣΥΜΜΕΤΕΧΟΥΝ \n  \nΣε σχέση με την πρόληψη για την μετάδοση του COVID – 19\, πρέπει σε κάθε περίπτωση να τηρούνται τα υγειονομικά πρωτόκολλα του Ε.Ο.Δ.Υ. και τα αντίστοιχα πρωτοκόλλα που ισχύουν για την διεξαγωγή αγώνων στίβου\, με τις οποιεσδήποτε τροποποιήσεις που θα  ισχύουν την ημερομηνία διεξαγωγής των αγώνων. \nΣε κάθε περίπτωση όμως\, για τα θέματα υγείας αυτών των αθλητών – αθλητριών αλλά και για κάθε πιθανό πρόβλημα που θα παρουσιαστεί κατά την διάρκεια των αγώνων και οφείλεται σε έλλειψη προληπτικού ιατρικού ελέγχου\, είναι υπεύθυνος ο εκπρόσωπος του σωματείου και ο προπονητής που δηλώνει αυτούς τους αθλητές και σε καμία περίπτωση οι διοργανωτές αγώνων.  \n  \n6.Τεχνικές Διατάξεις: \n\nΌλα τα αγωνίσματα δρόμων θα διεξαχθούν σε τελικές σειρές.\nΤα όργανα των ρίψεων θα είναι αυτά που προβλέπονται για τις αντίστοιχες κατηγορίες από τις τεχνικές διατάξεις του ΣΕΓΑΣ 2023.\n\n  \n7.Γενικά: \n\nΟι αγώνες θα διεξαχθούν σύμφωνα με τους τελευταίους κανονισμούς έκδοσης ΣΕΓΑΣ καθώς και τις τροποποιήσεις αυτού.\nΘα υπάρχει ηλεκτρονική χρονομέτρηση (Φώτο-φίνις)\nΌτι δεν προβλέπεται από την παρούσα προκήρυξη\, θα ρυθμίζεται από τον Αλυτάρχη των αγώνων.\nΤεχνικοί υπεύθυνοι των αγώνων ορίζονται οι τεχνικοί σύμβουλοι της ΕΑΣ ΣΕΓΑΣ Πελοποννήσου κκ Ματάκης Στέφανος – Τριανταφυλλόπουλος Σπύρος και οι σωματειακοί προπονητές κ. Δαμβουνέλης Ιωάννης – Κακούρος Ιωάννης\n\n  \n8.Έπαθλα: \nΣτους τρείς πρώτους νικητές   κάθε αγωνίσματος\, θα απονέμεται Μετάλλιο. \n  \nΜε αθλητικούς χαιρετισμούς\, \n\n\n\n\nΟ Δήμαρχος  \nΛουτρακίου – Περαχώρας – Αγίων Θεοδώρων \n\n\n Ο Πρόεδρος  \nΑ.Ο. Ποσειδών Λουτρακίου  \n\n\n Ο Πρόεδρος  \nΕΑΣ ΣΕΓΑΣ Περ. Πελοποννήσου \n\n\n\nΓκιώνης Γεώργιος \nΣακελλάρης Δημήτριος\nΒινατσέλας Κωνσταντίνος\n\n\n\n\n  \nΩΡΟΛΟΓΙΟ ΠΡΟΓΡΑΜΜΑ \n  \nΘΩΔΕΙΟ ΔΗΜΟΤΙΚΟ ΣΤΑΔΙΟ ΛΟΥΤΡΑΚΙΟΥ  \nΚΥΡΙΑΚΗ 28 ΜΑΙΟΥ 2023 \n\n\n\n\n  \n\n\n  \n\n\n  \n\n\nΔΑΚ Τρίπολη για τα πρωϊνά αγωνίσματα \n\n\n\n\nΩΡΑ \n\n\nΔΡΟΜΟΙ \n\n\nΑΛΜΑΤΑ \n\n\nΡΙΨΕΙΣ \n\n\n\n\n9:30 \n\n \n\n  \n\n\nΣφυροβολία Κ14 ΚΟΡΙΤΣΙΑ (ΔΑΚ Τρίπολης) \n\n\n\n\n10;00 \n\n\n  \n\n\n  \n\n\nΣφυροβολία Κ16-Κ18 Γ (ΔΑΚ Τρίπολης) \n\n\n\n\n11;00 \n\n\n  \n\n\n  \n\n\nΣφυροβολία  Γυναικών (ΔΑΚ Τρίπολης) \n\n\n\n\n11:30 \n\n\n  \n\n\n  \n\n\nΣφυροβολία  Κ18 Ανδρών \n(ΔΑΚ Τρίπολης) \n\n\n\n\n12:00 \n\n\n  \n\n\n  \n\n\nΔισκοβολία Κ16 – Κ18 (ΔΑΚ Τρίπολης) \n\n\n\n\n12:30 \n\n\n  \n\n\n  \n\n\nΔισκοβολία  Κ16 – Κ18 –  Ανδρών (ΔΑΚ Τρίπολης) \n\n\n\n\n14:45 \n\n\n300μ.Εμπ.  Κ16 ΑΓΟΡΙΑ \n\n\nΤετραπλούν Κ16 ΚΟΡΙΤΣΙΑ \n\n\n  \n\n\n\n\n15;05 \n\n\n400μ Εμπ. Γ \n\n\n  \n\n\nΑκοντισμός Κ18 ΑΝΔΡΩΝ \n\n\n\n\n15:30 \n\n\n400μ. Εμπ. Κ18  ΑΓΟΡΙΑ \n\n\n  \n\n\n  \n\n\n\n\n15:50 \n\n\n80μ. Κ16 ΚΟΡΙΤΣΙΑ \n\n\nΎψος Α & Κ18 \n\n\n  \n\n\n\n\n16:20 \n\n\n80μ. Κ16 ΑΓΟΡΙΑ \n\n\n  \n\n\nΣφαιροβολία Κ16 – Κ18 ΚΟΡΙΤΣΙΑ \n\n\n\n\n16:40 \n\n\n100μ. Γ \n\n\n  \n\n\n  \n\n\n\n\n17:00 \n\n \n\nΜΗΚΟΣ Κ16 ΚΟΡΙΤΣΙΑ \n\n \n\n\n\n17:10 \n\n\n100μ. Α \n\n \n\nΑΚΟΝΤΙΣΜΟΣ Α \n\n\n\n\n17:35 \n\n\n400 Γ \n\n\n  \n\n\n  \n\n\n\n\n17:55 \n\n\n400 Α \n\n\nΎψος Γ & Κ18 \n\n\nΣφαιροβολία ΑΝΔΡΩΝ \n\n\n\n\n18:40 \n\n \n\nΜΗΚΟΣ Γ \n\n\n  \n\n\n\n\n18:20 \n\n\n1000μ Κ16 ΚΟΡΙΤΣΙΑ \n\n \n \n\n\n\n18:50 \n\n\n1000μ Κ16 ΑΓΟΡΙΑ \n\n\n  \n\n\nΑΚΟΝΤΙΣΜΟΣ Γ \n\n\n\n\n19:20 \n\n\n1500μ Γ \n\n\n  \n\n \n\n\n\n19:45 \n\n\n200μ Γ \n\n\nΜΗΚΟΣ Α \n\n\n  \n\n\n\n\n20:00 \n\n\n200 Α \n\n \n\n  \n\n\n\n\n20:15 \n\n\n4Χ80μ. Κ16 ΚΟΡΙΤΣΙΑ \n\n\n  \n\n\n  \n\n\n\n\n20:30 \n\n\n4Χ80μ. Κ16 ΑΓΟΡΙΑ \n\n\n  \n\n\n  \n\n\n\n\n20:45 \n\n\n4 Χ 100μ Γ \n\n\n  \n\n\n  \n\n\n\n\n  \n\n\n4 Χ 100μ Α \n\n\n  \n\n\n  \n\n\n\n\n      Μετά την οριστικοποίηση των δηλώσεων συμμετοχής το ωρολόγιο πρόγραμμα ενδέχεται να τροποποιηθεί \n
URL:https://loutraki.gov.gr/en/event/38a-thodeia-2023/
LOCATION:Στάδιο Λουτρακίου\, ΛΟΥΤΡΑΚΙ\, 20300\, Ελλάδα
GEO:37.9660214;22.9792319
X-APPLE-STRUCTURED-LOCATION;VALUE=URI;X-ADDRESS=Στάδιο Λουτρακίου ΛΟΥΤΡΑΚΙ 20300 Ελλάδα;X-APPLE-RADIUS=500;X-TITLE=Στάδιο Λουτρακίου:geo:22.9792319,37.9660214
CATEGORIES:Αθλητικές
ATTACH;FMTTYPE=image/jpeg:https://loutraki.gov.gr/wp-content/uploads/2023/05/ΘΩΔΕΙΑ2023.jpg
END:VEVENT
END:VCALENDAR