BEGIN:VCALENDAR
VERSION:2.0
PRODID:-//Δήμος Λουτρακίου - ECPv4.6.12//NONSGML v1.0//EN
CALSCALE:GREGORIAN
METHOD:PUBLISH
X-WR-CALNAME:Δήμος Λουτρακίου
X-ORIGINAL-URL:https://loutraki.gov.gr/en
X-WR-CALDESC:Events for Δήμος Λουτρακίου
BEGIN:VEVENT
DTSTART;TZID=Europe/Athens:20230520T080000
DTEND;TZID=Europe/Athens:20230520T203000
DTSTAMP:20260423T052848
CREATED:20230522T095022Z
LAST-MODIFIED:20230522T095022Z
UID:27938-1684569600-1684614600@loutraki.gov.gr
SUMMARY:"2ο ΚΥΠΕΛΛΟ ΙΩΑΝΝΗΣ ΛΑΖΑΡΙΔΗΣ"
DESCRIPTION:ΠΡΟΚΗΡΥΞΗ ΑΓΩΝΩΝ «2ο ΚΥΠΕΛΛΟ ΙΩΑΝΝΗΣ ΛΑΖΑΡΙΔΗΣ» \nΟ Αθλητικός Όμιλος «ΠΟΣΕΙΔΩΝ» Λουτρακίου\, διοργανώνει για δεύτερη χρονιά τους αγώνες Προαγωνιστικών Κατηγοριών με την επωνυμία «2ο ΚΥΠΕΛΛΟ ΙΩΑΝΝΗΣ ΛΑΖΑΡΙΔΗΣ». Οι αγώνες θα διεξαχθούν το Σάββατο 20 Μαΐου 2023 στις εγκαταστάσεις του Ανοικτού Δημοτικού Κολυμβητηρίου Λουτρακίου και περιλαμβάνονται στο πρόγραμμα της Κ.Ο.Ε.. Η παρουσία και η συμμετοχή σας θα αποτελέσει ιδιαίτερη τιμή τόσο για τον σύλλογο μας ΑΟ «ΠΟΣΕΙΔΩΝ» ΛΟΥΤΡΑΚΙΟΥ όσο και για το Λουτράκι και ευχόμαστε σε όλους καλή επιτυχία στα αγωνίσματα σας. \nΔιοργανωτής\nΟ Αθλητικός Όμιλος «ΠΟΣΕΙΔΩΝ» Λουτρακίου με τη στήριξη του Δήμου Λουτρακίου-Περαχώρας-Αγίων Θεοδώρων.\nΟι αγώνες τελούν υπό την αιγίδα της Κ.Ο.Ε. και της Περιφερειακής Επιτροπής Πελοποννήσου.  \nΔικαίωμα Συμμετοχής\nΌλοι οι σύλλογοι που ανήκουν στην δύναμη της Κ.Ο.Ε.\, με κολυμβητές και κολυμβήτριες προαγωνιστικών κατηγοριών 9-10-11-12 ετών περιόδου 2022-2023 (γεννηθέντες 2014-2013-2012-2011). \nΤόπος διεξαγωγής\nΔημοτικό Κολυμβητήριο Λουτρακίου\n Κεντρική πισίνα: 50μ\, εξωτερική 8 διαδρομές\n Πισίνες προθέρμανσης: 25μ\, 50μ εξωτερικές 8 διαδρομών.\nΘερμοκρασία του νερού: 25\,5 Οc -26\,5Οc \nΗμερομηνία και Ώρες διεξαγωγής αγώνων\nΗ διοργάνωση θα πραγματοποιηθεί το Σάββατο 20 Μαΐου 2023\, πρωί 10:00 (ώρα προθέρμανσης 08:45) και απόγευμα 18:00 (ώρα προθέρμανσης 17:00). Όσα σωματεία επιθυμούν\, κατά τη διάρκεια των αγώνων\, δύνανται να φέρουν και να τοποθετήσουν στις εξέδρες ομπρέλες για προστασία από τον ήλιο. \nΚανονισμοί\nΗ διοργάνωση θα διεξαχθεί σύμφωνα με τους όρους και τις διατάξεις της Γενικής προκήρυξης των αγώνων της Κ.Ο.Ε. και την παρούσα προκήρυξη. Όλοι οι συμμετέχοντες κολυμβητές και συμμετέχουσες κολυμβήτριες στους παραπάνω αγώνες θα πρέπει να έχουν κάρτες υγείας και διαπίστευσης σε ισχύ (πρέπει να ανανεώνονται κάθε χρόνο).\n \nΗλικιακές Κατηγορίες\nΚορίτσια και Αγόρια γεννημένα το 2011 (12 ετών)\nΚορίτσια και Αγόρια γεννημένα το 2012 (11 ετών)\nΚορίτσια και Αγόρια γεννημένα το 2013 (10 ετών)\nΚορίτσια και Αγόρια γεννημένα το 2014 (9 ετών) \nΧρονομέτρηση\nΘα χρησιμοποιηθεί Αυτόματος Εξοπλισμός Χρονομέτρησης και ηλεκτρονικά χρονόμετρα\, υπό την αιγίδα της Κ.Ο.Ε. και της Περιφερειακής επιτροπής της Πελοποννήσου\, οι επιδόσεις θα είναι επίσημες και θα καταχωρηθούν στο αρχείο της Κ.Ο.Ε. \nΠρόγραμμα της Διοργάνωσης\nΗ διοργάνωση θα πραγματοποιηθεί σε δύο (2) αγωνιστικές ενότητες σε τελικές σειρές.\nΤεχνική Σύσκεψη: Σάββατο 20 Μαΐου 2023 στις 9:15 πμ\, στον τόπο διεξαγωγής των αγώνων \n
URL:https://loutraki.gov.gr/en/event/2o-kypello-ioannis-lazaridis/
LOCATION:κολυμβητήριο Λουτρακίου\, ΛΟΥΤΡΑΚΙ\, 20300\, Ελλάδα
GEO:37.9499057;22.9785734
X-APPLE-STRUCTURED-LOCATION;VALUE=URI;X-ADDRESS=κολυμβητήριο Λουτρακίου ΛΟΥΤΡΑΚΙ 20300 Ελλάδα;X-APPLE-RADIUS=500;X-TITLE=κολυμβητήριο Λουτρακίου:geo:22.9785734,37.9499057
CATEGORIES:Αθλητικές
ATTACH;FMTTYPE=image/jpeg:https://loutraki.gov.gr/wp-content/uploads/2023/05/2ο-ΚΥΠΕΛΛΟ-ΙΩΑΝΝΗΣ-ΛΑΖΑΡΙΔΗΣ.jpg
END:VEVENT
END:VCALENDAR