BEGIN:VCALENDAR
VERSION:2.0
PRODID:-//Δήμος Λουτρακίου - ECPv4.6.12//NONSGML v1.0//EN
CALSCALE:GREGORIAN
METHOD:PUBLISH
X-WR-CALNAME:Δήμος Λουτρακίου
X-ORIGINAL-URL:https://loutraki.gov.gr/en
X-WR-CALDESC:Events for Δήμος Λουτρακίου
BEGIN:VEVENT
DTSTART;TZID=Europe/Athens:20241020T110000
DTEND;TZID=Europe/Athens:20241020T143000
DTSTAMP:20260422T055221
CREATED:20241030T070559Z
LAST-MODIFIED:20241030T070754Z
UID:30594-1729422000-1729434600@loutraki.gov.gr
SUMMARY:1ο τουρνουά street Handball Δημοτικών σχολείων
DESCRIPTION:𝝩𝝤𝝪𝝦𝝢𝝤𝝪𝝖 𝗦𝗧𝗥𝗘𝗘𝗧 𝗛𝗔𝗡𝗗𝗕𝗔𝗟𝗟 \n Κυριακή 20 Οκτωβρίου 2024 | 10:30 πμ.\n Παραλιακό Πάρκο Λουτρακίου\n\nΤο τουρνουά διοργανώνει η Ομοσπονδία Χειροσφαιρίσεως – Hellenic Handball Federation – ΟΧΕ σε συνεργασία με τον Δήμος Λουτρακίου – Περαχώρας – Αγίων Θεοδώρων και το γραφείο Φυσικής Αγωγής Κορίνθιας.\n\n Η εκδήλωση εντάσσεται στο πλαίσιο ανάπτυξης του αθλήματος\, το οποίο εφαρμόζεται τα τελευταία χρόνια στην Ελλάδα από την Γενική Γραμματεία Αθλητισμού και σκοπό έχει να δραστηριοποιήσει τον κόσμο σχετικά με την προαγωγή του αθλητισμού και της σωματικής άσκησης.\n\nΤο τουρνουά θα πραγματοποιηθεί με την συμμετοχή μαθητών και μαθητριών Δ’-Ε’ και ΣΤ’ τάξης από τα Δημοτικά Σχολεία του Δήμου Λουτρακίου Περαχώρας–Αγίων Θεοδώρων σε διαμορφωμένα γήπεδα εντός του Παραλιακού Πάρκου.\n\n Όλοι μαζί μαθητές\, γονείς\, δάσκαλοι και η τοπική κοινωνία θα στείλουν το μήνυμα του ευ αγωνίζεσθαι και της ευγενούς άμιλλας παίζοντας και διασκεδάζοντας.\n\nΣυντονιστές της εκδήλωσης θα είναι ο κος Χατζηκωνσταντίνου Κων/νος και η κα Μπάκου Μαρία με υπεύθυνους τους αναπτυξιακούς προπονητές της Ομοσπονδίας Χειροσφαιρίσεως Ελλάδος.\n\nΣας περιμένουμε Να Παίξουμε\, Να διασκεδάσουμε\, Να βάλουμε Γκολ! \n \n  \n\nΤΟ STREET HANDBALL ΕΙΧΕ ΤΗ ΔΙΚΗ ΤΟΥ ΓΙΟΡΤΗ ΣΤΟ ΛΟΥΤΡΑΚΙ\n\n \n\n\n\n \nΜε επιτυχία πραγματοποιήθηκε την Κυριακή 20/10 στο Παραλιακό Πάρκο Λουτρακίου το 1ο τουρνουά street Handball Δημοτικών σχολείων\, που συνδιοργανώθηκε από την Ομοσπονδία Χειροσφαιρίσεως Ελλάδος (Ο.Χ.Ε) \,τον Δήμο Λουτρακίου- Περαχώρας- Αγίων Θεοδώρων\, και τον Α.Ο. Ποσειδών Λουτρακίου\, υπό την αιγίδα της Δ/νσης Α/θμιας εκπ/σης Κορινθίας. Στην εκδήλωση παραβρέθηκαν οι Αντιδήμαρχοι\, Κος Σακελλάριου\, κος Παπαθανασίου\, Κος Μούζακης\, ο Προέδρος του Λιμενικού Ταμείου κος Δήμου καθώς και ο Πρόσεδρος του Ποσειδώνα Λουτρακίου κος Σακκελάρης μετά μελών του Δ.Σ \nΗ εκδήλωση πραγματοποιήθηκε στο πλαίσιο ανάπτυξης του αθλήματος\, το οποίο εφαρμόζεται τα τελευταία χρόνια στην Ελλάδα από την Γενική Γραμματεία Αθλητισμού και σκοπό έχει να δραστηριοποιήσει τον κόσμο σχετικά με την προαγωγή του αθλητισμού και της σωματικής άσκησης. \nΠήραν μέρος περισσότεροι από 85 μαθητές και μαθήτριες γνωρίζοντας το χάντμπολ\, σε μία εκδήλωση με κέφι και μουσική. Τα παιδιά έφτιαξαν ομάδες\, φόρεσαν φανέλες και έβαλαν αμέτρητα γκολ. Οι γονείς των παιδιών ενημερώθηκαν για το χάντμπολ από τους τεχνικούς σύμβουλους της ΕΑΠ/ΟΧΕ κο Γιάννη Παπαγιαννόπουλο και κο Νικόλαο Χρόνη\, ενώ παραβρέθηκε και το τεχνικό επιτελείο και αντιπροσωπεία παικτών της ανδρικής ομάδας του Ποσειδώνα Λουτρακίου. \nΤην εκδήλωση συντόνισε ο κος Παπαγιαννόπουλος με τον κο Χρόνη\, όπου με την αμέριστη βοήθεια των Προπονητών του Ποσειδώνα Λουτρακίου Μαρίας Μπάκου\, Κώστα Χατζηκωνσταντίνου\, Ιωάννη Δημητρόπουλο και Πέτρο Παπαδόπουλο\, συνέβαλαν για αυτό το άριστο αποτέλεσμα. \nΤο Δ.Σ του συλλόγου θα ήθελε να ευχαριστήσει τους γονείς που στηρίζουν τις αθλητικές αναζητήσεις των παιδιών τους\, τους τεχνικούς συμβούλους της ΕΑΠ/ΟΧΕ κο Γιάννη Παπαγιαννόπουλο και κο Νικόλαο Χρόνη για την εμπνευσμένη προσέγγιση των παιδιών και την αμέριστη βοήθεια στην οργάνωση και υλοποίηση της γιορτής\, τους Δ/ντες και γυμναστές των Δημοτικών σχολείων για την συνεργασία τους\, τον Γιατρό\, κο Αναστάσιο Μίχα για την ιατρική κάλυψή\, καθώς τον κο Τσιέλο Σπύρο για την ηχητική κάλυψη της γιορτής. \nΤέλος να ευχαριστήσουμε τους χορηγούς της εκδήλωσης την Κα Μαρία Μανιάτη -Άκη Ροντογιάννη “Blue Dream” και την εταιρεία N. U Aqua – νερό “Eonio” για την ευγενική χορηγία τους. \nΗ Συνέχεια και το μέλλον ανήκει στα παιδιά μας\, ας τους δώσουμε τα κίνητρα και τα εφόδια για να το πετύχουν … \n\n
URL:https://loutraki.gov.gr/en/event/1o-toyrnoya-street-handball-dimotikon-scholeion/
LOCATION:Παραλιακό Πάρκο\, ΛΟΥΤΡΑΚΙ\, Κορινθία\, 20300\, Ελλάδα
GEO:37.9792631;22.9735862
X-APPLE-STRUCTURED-LOCATION;VALUE=URI;X-ADDRESS=Παραλιακό Πάρκο ΛΟΥΤΡΑΚΙ Κορινθία 20300 Ελλάδα;X-APPLE-RADIUS=500;X-TITLE=Παραλιακό Πάρκο:geo:22.9735862,37.9792631
CATEGORIES:Αθλητικές
ATTACH;FMTTYPE=image/jpeg:https://loutraki.gov.gr/wp-content/uploads/2024/10/464153215_971185715042948_5763315245789029289_n.jpg
END:VEVENT
END:VCALENDAR