BEGIN:VCALENDAR
VERSION:2.0
PRODID:-//Δήμος Λουτρακίου - ECPv4.6.12//NONSGML v1.0//EN
CALSCALE:GREGORIAN
METHOD:PUBLISH
X-WR-CALNAME:Δήμος Λουτρακίου
X-ORIGINAL-URL:https://loutraki.gov.gr/en
X-WR-CALDESC:Events for Δήμος Λουτρακίου
BEGIN:VEVENT
DTSTART;TZID=Europe/Athens:20221118T170000
DTEND;TZID=Europe/Athens:20221120T170000
DTSTAMP:20260423T130907
CREATED:20221116T110739Z
LAST-MODIFIED:20221121T111300Z
UID:26561-1668790800-1668963600@loutraki.gov.gr
SUMMARY:19o ΠΑΝΕΛΛΗΝΙΟ ΣΥΝΕΔΡΙΟ ΦΥΣΙΚΗΣ 2022
DESCRIPTION:Το 19ο Πανελλήνιο Συνέδριο της Ένωσης Ελλήνων Φυσικών φιλοδοξεί να αποτελέσει το βήμα από όπου διακεκριμένοι επιστήμονες οι οποίοι διαπρέπουν στη χώρα μας και στο εξωτερικό\, θα παρουσιάσουν τις εργασίες τους πάνω στη σύγχρονη Φυσική. Παράλληλα το συνέδριο επιδιώκει να δώσει την ευκαιρία στους νέους ερευνητές να παρουσιάσουν τις εργασίες τους\, στους φοιτητές να καταθέσουν την πρώτη τους εργασία\, όπως επίσης και στους συναδέλφους εκπαιδευτικούς να καταθέσουν τους προβληματισμούς και τις προτάσεις τους για την αναβάθμιση του μαθήματος της Φυσικής. Ιδιαίτερος στόχος του συνεδρίου είναι να χτίσει γέφυρες επικοινωνίας και συνεργασίας ανάμεσα στον επιστημονικό χώρο\, την εκπαίδευση\, την κοινωνία και τον πολίτη.\n—–\nMε τη συνδιοργάνωση\n· του Πανεπιστήμιο Πελοποννήσου\n· του Πανεπιστήμιο Θεσσαλίας -Τμήμα Φυσικής\n· του Εθνικό Μετσόβιο Πολυτεχνείο – National Technical University of Athens Ε.Μ.Π –Σ.Ε.Μ.Φ.Ε\n· του Εθνικό και Καποδιστριακό Πανεπιστήμιο Αθηνών Ε.Κ.Π.Α -Παιδαγωγική Σχολή\n· του Δήμος Λουτρακίου – Περαχώρας – Αγίων Θεοδώρων\n· της Περιφέρεια Πελοποννήσου – Peloponnese Region\n· της Διεύθυνσης Δευτεροβάθμιας Εκπαίδευσης Κορινθίας\n· του Αριστοτέλειο Κορινθιακό Εκπαιδευτήριο\n—–\nΧώρος Διεξαγωγής:\nClub Hotel Casino Loutraki\n \n\nΘεματολογία του συνεδρίου\n\nΤο συνέδριο εστιάζει στις παρακάτω θεματικές ενότητες\, χωρίς να αποκλείει και άλλες σχετικές πάντα με τον γενικότερο τίτλο του: \n\nΑστρονομία\, Αστροφυσική και Κοσμολογία\nΦυσική Υψηλών Ενεργειών\nΟπτική Φυσική και Lasers\nΦυσική της Ατμόσφαιρας και του Περιβάλλοντος\nΝανοτεχνολογία\nΙατρική Φυσική\nΙστορία και Φιλοσοφία της Φυσικής\nΔιδακτική της Φυσικής και STEM\nΠαιδαγωγικά Μοντέλα Διδασκαλίας των Φυσικών Επιστημών\nΘεωρητική Φυσική\nΑνανεώσιμες Πηγές Ενέργειας\nTo Αειφόρο Σχολείο\, Κλιματική Αλλαγή και η διαχείριση της ενέργειας στο σχολείο\n\n\nΣε ποιους απευθύνεται \nΤο 19ο Πανελλήνιο Συνέδριο Φυσικής απευθύνεται σε: \n\nΜέλη ΔΕΠ\nΕρευνητές\nΕκπαιδευτικούς Α/θμιας και Β/θμιας Εκπαίδευσης\nΠροπτυχιακούς και Μεταπτυχιακούς Φοιτητές\nΜαθητές και πολίτες με ιδιαίτερο ενδιαφέρον για τη Φυσική\n\n  \n  \n  \n\n
URL:https://loutraki.gov.gr/en/event/19o-panellinio-synedrio-fysikis-2022/
LOCATION:Ποσειδώνος 48\, ΛΟΥΤΡΑΚΙ\, 20300\, Ελλάδα
CATEGORIES:Εκπαιδευτικές
ATTACH;FMTTYPE=image/jpeg:https://loutraki.gov.gr/wp-content/uploads/2022/11/19SYNEDRIO.jpg
END:VEVENT
END:VCALENDAR