BEGIN:VCALENDAR
VERSION:2.0
PRODID:-//Δήμος Λουτρακίου - ECPv4.6.12//NONSGML v1.0//EN
CALSCALE:GREGORIAN
METHOD:PUBLISH
X-WR-CALNAME:Δήμος Λουτρακίου
X-ORIGINAL-URL:https://loutraki.gov.gr/en
X-WR-CALDESC:Events for Δήμος Λουτρακίου
BEGIN:VEVENT
DTSTART;TZID=Europe/Athens:20210731T080000
DTEND;TZID=Europe/Athens:20210801T000000
DTSTAMP:20260423T235932
CREATED:20210702T091000Z
LAST-MODIFIED:20210702T091000Z
UID:23842-1627718400-1627776000@loutraki.gov.gr
SUMMARY:18o Ράλλυ Κορίνθου 2021
DESCRIPTION:Η Α.Λ.Α. Κορινθίας μετά από πρόταση της που εγκρίθηκε από την Επιτροπή Αγώνων\, θα διοργανώσει το 18ο Ράλλυ Κορίνθου\, 2ο γύρο του Πανελληνίου Πρωταθλήματος Ράλι 2021. \nΤο 18ο Ράλλυ Κορίνθου θα διεξαχθεί με επίκεντρο την πόλη του Λουτρακίου και το πρόγραμμα του αγώνα περιλαμβάνει δύο επαναλαμβανόμενες ειδικές διαδρομές. Το καλοκαιρινό Ράλλυ Κορίνθου σχεδιάζεται με 2 επαναλαμβανόμενες ειδικές διαδρομές στην περιοχή των Γερανείων και θα φιλοξενηθεί στον Δήμο Λουτρακίου – Περαχωρας και Αγ.Θεοδώρων. \n Ο αγώνας προσμετρά στους παρακάτω τίτλους \n 57ο Πρωτάθλημα Ράλι Χώματος 2021 \n Κυπελλο Αγώνων Ράλι Χώματος Πανελλήνιο \nΠρωτάθλημα Χώματος Ιστορικών Αυτοκινήτων 2021 \nκαι στο Κύπελλο Χώματος Ιστορικών Αυτοκινήτων 2021. \nΗ διεξαγωγή του 18ου Ράλλυ Κορίνθου είναι προγραμματισμένη για τις 31/7 – 1/8 με το Αλεξάνδρειο Συνεδριακό Κέντρο να αποτελεί για ακόμα μία φορά το κέντρο του αγώνα\, φιλοξενώντας φυσικά και το σέρβις παρκ. Ο διοικητικός και τεχνικός έλεγχος θα πραγματοποιηθούν στις 31/7 στο ΙΚΤΕΟ AUTOVISION\, ενώ η εκκίνηση θα δοθεί την επόμενη μέρα το πρωί στις 08:00 πμ. \nΧορηγός του 18ου Ράλλυ Κορίνθου είναι η εταιρεία ΑΣΗΜΑΚΗΣ ΑΝΤΑΛΛΑΚΤΙΚΑ\, ενώ ο αγώνας θα διεξαχθεί υπό την αιγίδα της Περιφέρειας Πελοποννήσου\,και του Δήμου Λουτρακίου-Περαχώρας -Αγιών Θεοδώρων. \nΜείνετε συντονισμένοι για περισσότερες πληροφορίες στην ιστοσελίδα μας www.alak.gr \nΤο Γραφείο Τύπου του 18ου Ραλλυ Κορίνθου \n
URL:https://loutraki.gov.gr/en/event/18o-rally-korinthoy-2021/
LOCATION:Αλεξάνδρειο Συνεδριακό Κέντρο\, Λουτράκι\, Κορινθία\, 20300\, Ελλάδα
GEO:37.931569;22.991929
X-APPLE-STRUCTURED-LOCATION;VALUE=URI;X-ADDRESS=Αλεξάνδρειο Συνεδριακό Κέντρο Λουτράκι Κορινθία 20300 Ελλάδα;X-APPLE-RADIUS=500;X-TITLE=Αλεξάνδρειο Συνεδριακό Κέντρο:geo:22.991929,37.931569
CATEGORIES:Αθλητικές
ATTACH;FMTTYPE=image/jpeg:https://loutraki.gov.gr/wp-content/uploads/2021/07/a66f3438-c14a-0956-e184-4c5fe84af09e.jpg
END:VEVENT
END:VCALENDAR