BEGIN:VCALENDAR
VERSION:2.0
PRODID:-//Δήμος Λουτρακίου - ECPv4.6.12//NONSGML v1.0//EN
CALSCALE:GREGORIAN
METHOD:PUBLISH
X-WR-CALNAME:Δήμος Λουτρακίου
X-ORIGINAL-URL:https://loutraki.gov.gr/en
X-WR-CALDESC:Events for Δήμος Λουτρακίου
BEGIN:VEVENT
DTSTART;TZID=Europe/Athens:20220527T080000
DTEND;TZID=Europe/Athens:20220529T170000
DTSTAMP:20260423T142518
CREATED:20220525T111107Z
LAST-MODIFIED:20220526T104453Z
UID:25852-1653638400-1653843600@loutraki.gov.gr
SUMMARY:11ο Πανελλήνιο Πρωτάθλημα Ομαδικών και Ατομικών Αγωνισμάτων Επιτραπέζιας Αντισφαίρισης
DESCRIPTION:Στο κλειστό Γυμναστήριο Γ. Γαλανόπουλος το Σάββατο 28 και την Κυριακή 29 Μαΐου από 10.00 έως 18.00 θα πραγματοποιηθεί το 11ο ΠΑΝΕΛΛΗΝΙΟ ΠΡΩΤΑΘΛΗΜΑ ΒΕΤΕΡΑΝΩΝ & ΑΝΕΞΑΡΤΗΤΩΝ ΠΙΝΓΚ ΠΟΝΓΚ. \nΤους αγώνες διοργανώνει ο ΠΟΦΕΠΑ\, με τον Δήμο Λουτρακίου – Περαχώρας – Αγίων Θεοδώρων και τον Α.Ο. ΠΟΣΕΙΔΩΝΑ. \nΣτους αγώνες όλων των κατηγοριών θα συμμετέχουν συνολικά 209 αθλητές\, αριθμός που αποτελεί ρεκόρ συμμέτοχων στην εντεκάχρονη ιστορία του θεσμού. Ανάμεσα στους συμμετέχοντες\, μεγάλα ονόματα του αθλήματος που στο παρελθόν έχουν σημειώσει σπουδαίες αθλητικές επιτυχίες όπως ο πρόεδρος της ΕΦΟΕΠΑ Κ. Παπαγεωργίου\, ο πρόεδρος της ΠΟΦΕΠΑ Σ. Πλακαντωνάκης ο νυν ομοσπονδιακός προπονητής Κ. Βατσακλής\, ο Κ. Λαγογιάννης\, ο Γ. Βλοτίνος\, ο Γ. Κορδούτης κ.ά. \nΤέλος\, να αναφερθεί ότι θα συμμετέχει στους αγώνες και η τοπική ομάδα των βετεράνων Λουτρακίου  με αρχηγό της τον εμβληματικό για το άθλημα στην πόλη μας Γρηγόρη Παντελέων\, ο οποίος έχει υπάρξει στο παρελθόν πρωταθλητής Ελλάδας στο απλό Παίδων. \n\nΧΑΙΡΕΤΙΣΜΟΣ ΔΗΜΑΡΧΟΥ \n  \nΑγαπητοί αθλητές\, \n  \nΜε ιδιαίτερη χαρά σας καλωσορίζω στο 11ο Πανελλήνιο Πρωτάθλημα Ομαδικών και Ατομικών Αγωνισμάτων Επιτραπέζιας Αντισφαίρισης (πινγκ – πονγκ) που διεξάγεται στον Δήμο Λουτρακίου – Περαχώρας – Αγίων Θεοδώρων. Έναν Δήμο με μεγάλη εμπειρία στη φιλοξενία και διοργάνωση μεγάλων αθλητικών γεγονότων\, έναν τόπο που αγαπά και σέβεται τον αθλητισμό. \n  \nΗ φετινή χρονιά δεν αποτελεί εξαίρεση\, αφού ήδη έχουν προγραμματιστεί πολλές αθλητικές διοργανώσεις διεθνούς και πανελλήνιας εμβέλειας. Στον προγραμματισμό των δράσεών μας εντάσσεται και η διεξαγωγή διεθνών αγώνων βετεράνων πινγκ – πονγκ\, σε συνεργασία με την ΕΦΟΕΠΑ\, η οποία φιλοδοξούμε να πραγματοποιηθεί το φθινόπωρο. \n  \nΕίμαστε σίγουροι ότι ο Δήμος μας θα ανταποκριθεί στις προσδοκίες σας και το προσωπικό των σύγχρονων αθλητικών μας εγκαταστάσεων\, με την τεράστια εμπειρία που διαθέτει\, θα αποδειχθεί ο καλύτερος βοηθός για την επιτυχία της διοργάνωσης. \n  \nΕυχαριστούμε θερμά τα μέλη του Δ.Σ. του ΠΟΦΕΠΑ και τον Πρόεδρο κ. Σταύρο Πλακαντωνάκη και τους ευχόμαστε κάθε επιτυχία στο δημιουργικό έργο που επιτελούν. \n  \nΓεώργιος Αλκ. Γκιώνης \nΔήμαρχος Λουτρακίου – Περαχώρας – Αγίων Θεοδώρων \nΑγαπητοί αθλητές\, \n  \n
URL:https://loutraki.gov.gr/en/event/11o-panellinio-protathlima-omadikon-kai-atomikon-agonismaton-epitrapezias-antisfairisis/
LOCATION:Λεωφόρος Αθηνών\, Λουτράκι\, 20300
GEO:37.945996;22.9761642
X-APPLE-STRUCTURED-LOCATION;VALUE=URI;X-ADDRESS=Λεωφόρος Αθηνών Λουτράκι 20300;X-APPLE-RADIUS=500;X-TITLE=Λεωφόρος Αθηνών:geo:22.9761642,37.945996
CATEGORIES:Αθλητικές
ATTACH;FMTTYPE=image/jpeg:https://loutraki.gov.gr/wp-content/uploads/2022/05/Tzaridou-Alexoudi_fasi.jpg
END:VEVENT
END:VCALENDAR