BEGIN:VCALENDAR
VERSION:2.0
PRODID:-//Δήμος Λουτρακίου - ECPv4.6.12//NONSGML v1.0//EN
CALSCALE:GREGORIAN
METHOD:PUBLISH
X-WR-CALNAME:Δήμος Λουτρακίου
X-ORIGINAL-URL:https://loutraki.gov.gr/en
X-WR-CALDESC:Events for Δήμος Λουτρακίου
BEGIN:VEVENT
DTSTART;TZID=Europe/Athens:20221102T093000
DTEND;TZID=Europe/Athens:20221102T170000
DTSTAMP:20260423T115506
CREATED:20221026T102623Z
LAST-MODIFIED:20221121T120639Z
UID:26587-1667381400-1667408400@loutraki.gov.gr
SUMMARY:«𝝖𝞂𝞃𝝸𝝹𝝾 𝝥𝝴𝞀𝝸𝝱𝝰𝝺𝝺𝝾𝝼 𝝹𝝰𝝸 𝝚𝝼𝝰𝝺𝝺𝝰𝝹𝞃𝝸𝝹𝝴𝞁 𝝡𝝴𝞃𝝰𝝹𝝸𝝼𝝶𝞂𝝴𝝸𝞁. 𝝡𝝴𝞃𝝰𝞃𝞀𝝾𝝿𝝴𝞁 𝞂𝞃𝝾𝝼 𝝳𝝶𝝻𝝾𝞂ι𝝾 𝞆𝞈𝞀𝝾 𝝻𝝴 𝝴𝝿𝝸𝝿𝞃𝞈𝞂𝝴𝝸𝞁 𝞂𝞃𝝶𝝼 𝞄𝝲𝝴𝝸𝝰 𝝹𝝰𝝸 𝞃𝝶𝝼 𝝿𝝾𝝸𝝾𝞃𝝶𝞃𝝰 𝝵𝞈𝝶𝞁»
DESCRIPTION:\nΟ Δήμος Λουτρακίου – Περαχώρας – Αγίων Θεοδώρων σας προσκαλεί στην Ημερίδα με θέμα:\n«𝝖𝞂𝞃𝝸𝝹𝝾 𝝥𝝴𝞀𝝸𝝱𝝰𝝺𝝺𝝾𝝼 𝝹𝝰𝝸 𝝚𝝼𝝰𝝺𝝺𝝰𝝹𝞃𝝸𝝹𝝴𝞁 𝝡𝝴𝞃𝝰𝝹𝝸𝝼𝝶𝞂𝝴𝝸𝞁. 𝝡𝝴𝞃𝝰𝞃𝞀𝝾𝝿𝝴𝞁 𝞂𝞃𝝾𝝼 𝝳𝝶𝝻𝝾𝞂ι𝝾 𝞆𝞈𝞀𝝾 𝝻𝝴 𝝴𝝿𝝸𝝿𝞃𝞈𝞂𝝴𝝸𝞁 𝞂𝞃𝝶𝝼 𝞄𝝲𝝴𝝸𝝰 𝝹𝝰𝝸 𝞃𝝶𝝼 𝝿𝝾𝝸𝝾𝞃𝝶𝞃𝝰 𝝵𝞈𝝶𝞁»\nπου θα πραγματοποιηθεί την  Τετάρτη 2 Νοεμβρίου 2022 και ώρα 9.30 π.μ. στο  Αλεξάνδρειο Συνεδριακό Κέντρο Λουτρακίου\n\n\nΟ Δήμαρχος\nΓεώργιος Αλκ. Γκιώνης\n—–\nΗ Ημερίδα χρηματοδοτείται από το Πρόγραμμα «ΟΙΚΟΝΟΜΙΚΗ ΥΠΟΣΤΗΡΙΞΗ ΕΞΩΣΤΡΕΦΩΝ ΔΡΑΣΕΩΝ 2020»\, στο πλαίσιο του Χρηματοδοτικού Προγράμματος του Πράσινο Ταμείο «ΔΡΑΣΕΙΣ ΠΕΡΙΒΑΛΛΟΝΤΙΚΟΥ ΙΣΟΖΥΓΙΟΥ 2020» του Άξονα Προτεραιότητας 3: «Λοιπές Δράσεις Περιβαλλοντικού Ισοζυγίου»\n\n \n\n\n   \n\n
URL:https://loutraki.gov.gr/en/event/%f0%9d%9d%96%f0%9d%9e%82%f0%9d%9e%83%f0%9d%9d%b8%f0%9d%9d%b9%f0%9d%9d%be-%f0%9d%9d%a5%f0%9d%9d%b4%f0%9d%9e%80%f0%9d%9d%b8%f0%9d%9d%b1%f0%9d%9d%b0%f0%9d%9d%ba%f0%9d%9d%ba%f0%9d%9d%be%f0%9d%9d%bc/
CATEGORIES:Περιβαλλοντικές
ATTACH;FMTTYPE=image/jpeg:https://loutraki.gov.gr/wp-content/uploads/2022/11/ΗΜΕΡΙΔΑ-ΠΡΑΣΙΝΟ-ΤΑΜΕΙΟ_ΠΡΟΣΚΛΗΣΗ-1.jpg
END:VEVENT
END:VCALENDAR